Workbook

Sheet Total
A1: DrugID | B1: DrugName | C1: textSingular | D1: textPlural | E1: Lægemiddelform (lms01, felt 7) | F1: Styrke (lms01, felt 10) | G1: ATC (lms01, felt 15) | H1: ATC tekst (lms12, felt 6 (modificeret til kolonne B)) | I1: Administrationsvej (lms01, felt 16) | J1: Afregistreringsdato (lms01, felt 24) | K1: Findes DrugID i Added
A2: 28100009555 | B2: Kemadrin | C2: tablet | D2: tabletter | E2: =VLOOKUP($A2,'lms01'!$1:$1048576,7,FALSE) -> tabletter | F2: =VLOOKUP($A2,'lms01'!$1:$1048576,10,FALSE) -> 5 mg | G2: =VLOOKUP($A2,'lms01'!$1:$1048576,15,FALSE) -> N04AA04 | H2: =VLOOKUP($G2,'lms12'!$A:$B,2,FALSE) -> Procyclidin | I2: =VLOOKUP($A2,'lms01'!$1:$1048576,16,FALSE) -> OR | J2: =VLOOKUP($A2,'lms01'!$1:$1048576,24,FALSE) -> 0
A3: 28100010554 | B3: Marzine | C3: tablet | D3: tabletter | E3: =VLOOKUP($A3,'lms01'!$1:$1048576,7,FALSE) -> tabletter | F3: =VLOOKUP($A3,'lms01'!$1:$1048576,10,FALSE) -> 50 mg | G3: =VLOOKUP($A3,'lms01'!$1:$1048576,15,FALSE) -> R06AE03 | H3: =VLOOKUP($G3,'lms12'!$A:$B,2,FALSE) -> Cyclizin | I3: =VLOOKUP($A3,'lms01'!$1:$1048576,16,FALSE) -> OR | J3: =VLOOKUP($A3,'lms01'!$1:$1048576,24,FALSE) -> 0
A4: 28100020455 | B4: Eltroxin | C4: tablet | D4: tabletter | E4: =VLOOKUP($A4,'lms01'!$1:$1048576,7,FALSE) -> tabletter | F4: =VLOOKUP($A4,'lms01'!$1:$1048576,10,FALSE) -> 100 mikrogram | G4: =VLOOKUP($A4,'lms01'!$1:$1048576,15,FALSE) -> H03AA01 | H4: =VLOOKUP($G4,'lms12'!$A:$B,2,FALSE) -> Levothyroxinnatrium | I4: =VLOOKUP($A4,'lms01'!$1:$1048576,16,FALSE) -> OR | J4: =VLOOKUP($A4,'lms01'!$1:$1048576,24,FALSE) -> 0
A5: 28100021255 | B5: Postafen | C5: tablet | D5: tabletter | E5: =VLOOKUP($A5,'lms01'!$1:$1048576,7,FALSE) -> tabletter | F5: =VLOOKUP($A5,'lms01'!$1:$1048576,10,FALSE) -> 25 mg | G5: =VLOOKUP($A5,'lms01'!$1:$1048576,15,FALSE) -> R06AE05 | H5: =VLOOKUP($G5,'lms12'!$A:$B,2,FALSE) -> Meclozin | I5: =VLOOKUP($A5,'lms01'!$1:$1048576,16,FALSE) -> OR | J5: =VLOOKUP($A5,'lms01'!$1:$1048576,24,FALSE) -> 0
A6: 28100041255 | B6: Diamox | C6: tablet | D6: tabletter | E6: =VLOOKUP($A6,'lms01'!$1:$1048576,7,FALSE) -> tabletter | F6: =VLOOKUP($A6,'lms01'!$1:$1048576,10,FALSE) -> 250 mg | G6: =VLOOKUP($A6,'lms01'!$1:$1048576,15,FALSE) -> S01EC01 | H6: =VLOOKUP($G6,'lms12'!$A:$B,2,FALSE) -> Acetazolamid | I6: =VLOOKUP($A6,'lms01'!$1:$1048576,16,FALSE) -> OR | J6: =VLOOKUP($A6,'lms01'!$1:$1048576,24,FALSE) -> 0
A7: 28100042855 | B7: Methergin | C7: tablet | D7: tabletter | E7: =VLOOKUP($A7,'lms01'!$1:$1048576,7,FALSE) -> #N/A | F7: =VLOOKUP($A7,'lms01'!$1:$1048576,10,FALSE) -> #N/A | G7: =VLOOKUP($A7,'lms01'!$1:$1048576,15,FALSE) -> #N/A | H7: =VLOOKUP($G7,'lms12'!$A:$B,2,FALSE) -> #N/A | I7: =VLOOKUP($A7,'lms01'!$1:$1048576,16,FALSE) -> #N/A | J7: =VLOOKUP($A7,'lms01'!$1:$1048576,24,FALSE) -> #N/A
A8: 28100049355 | B8: Hydrocortison med Terramycin | C8: påsmøring | D8: påsmøringer | E8: =VLOOKUP($A8,'lms01'!$1:$1048576,7,FALSE) -> salve | F8: =VLOOKUP($A8,'lms01'!$1:$1048576,10,FALSE) -> 10 + 30 mg/g | G8: =VLOOKUP($A8,'lms01'!$1:$1048576,15,FALSE) -> D07CA01 | H8: =VLOOKUP($G8,'lms12'!$A:$B,2,FALSE) -> Hydrocortison og antibiotica | I8: =VLOOKUP($A8,'lms01'!$1:$1048576,16,FALSE) -> KU | J8: =VLOOKUP($A8,'lms01'!$1:$1048576,24,FALSE) -> 0
A9: 28100049555 | B9: Heparin "Leo" | C9: ml | D9: ml | E9: =VLOOKUP($A9,'lms01'!$1:$1048576,7,FALSE) -> inj.v‘ske, opl›sning | F9: =VLOOKUP($A9,'lms01'!$1:$1048576,10,FALSE) -> 5.000 IE/ml | G9: =VLOOKUP($A9,'lms01'!$1:$1048576,15,FALSE) -> B01AB01 | H9: =VLOOKUP($G9,'lms12'!$A:$B,2,FALSE) -> Heparin | I9: =VLOOKUP($A9,'lms01'!$1:$1048576,16,FALSE) -> IV | J9: =VLOOKUP($A9,'lms01'!$1:$1048576,24,FALSE) -> 0
A10: 28100052255 | B10: Terramycin-Polymyxin B | C10: påsmøring | D10: påsmøringer | E10: =VLOOKUP($A10,'lms01'!$1:$1048576,7,FALSE) -> salve | F10: =VLOOKUP($A10,'lms01'!$1:$1048576,10,FALSE) -> 30+1 mg/g | G10: =VLOOKUP($A10,'lms01'!$1:$1048576,15,FALSE) -> D06AA03 | H10: =VLOOKUP($G10,'lms12'!$A:$B,2,FALSE) -> Oxytetracyclin | I10: =VLOOKUP($A10,'lms01'!$1:$1048576,16,FALSE) -> KU | J10: =VLOOKUP($A10,'lms01'!$1:$1048576,24,FALSE) -> 0
A11: 28100074555 | B11: Paraghurt | C11: tablet | D11: tabletter | E11: =VLOOKUP($A11,'lms01'!$1:$1048576,7,FALSE) -> tabletter | F11: =VLOOKUP($A11,'lms01'!$1:$1048576,10,FALSE) -> 0 | G11: =VLOOKUP($A11,'lms01'!$1:$1048576,15,FALSE) -> A07FA01 | H11: =VLOOKUP($G11,'lms12'!$A:$B,2,FALSE) -> M‘lkesyreproducerende organismer | I11: =VLOOKUP($A11,'lms01'!$1:$1048576,16,FALSE) -> OR | J11: =VLOOKUP($A11,'lms01'!$1:$1048576,24,FALSE) -> 0
A12: 28100076255 | B12: Aspirin | C12: tablet | D12: tabletter | E12: =VLOOKUP($A12,'lms01'!$1:$1048576,7,FALSE) -> #N/A | F12: =VLOOKUP($A12,'lms01'!$1:$1048576,10,FALSE) -> #N/A | G12: =VLOOKUP($A12,'lms01'!$1:$1048576,15,FALSE) -> #N/A | H12: =VLOOKUP($G12,'lms12'!$A:$B,2,FALSE) -> #N/A | I12: =VLOOKUP($A12,'lms01'!$1:$1048576,16,FALSE) -> #N/A | J12: =VLOOKUP($A12,'lms01'!$1:$1048576,24,FALSE) -> #N/A
A13: 28100096555 | B13: Neo-mercazole | C13: tablet | D13: tabletter | E13: =VLOOKUP($A13,'lms01'!$1:$1048576,7,FALSE) -> overtrukne tabletter | F13: =VLOOKUP($A13,'lms01'!$1:$1048576,10,FALSE) -> 5 mg | G13: =VLOOKUP($A13,'lms01'!$1:$1048576,15,FALSE) -> H03BB01 | H13: =VLOOKUP($G13,'lms12'!$A:$B,2,FALSE) -> Carbimazol | I13: =VLOOKUP($A13,'lms01'!$1:$1048576,16,FALSE) -> OR | J13: =VLOOKUP($A13,'lms01'!$1:$1048576,24,FALSE) -> 0
... A11076: 52620027995 | B11076: APOVIT Folsyre stærk | C11076: tablet | D11076: tabletter | E11076: =VLOOKUP($A11076,'lms01'!$1:$1048576,7,FALSE) -> #N/A | F11076: =VLOOKUP($A11076,'lms01'!$1:$1048576,10,FALSE) -> #N/A | G11076: =VLOOKUP($A11076,'lms01'!$1:$1048576,15,FALSE) -> #N/A | H11076: =VLOOKUP($G11076,'lms12'!$A:$B,2,FALSE) -> #N/A | I11076: =VLOOKUP($A11076,'lms01'!$1:$1048576,16,FALSE) -> #N/A | J11076: =VLOOKUP($A11076,'lms01'!$1:$1048576,24,FALSE) -> #N/A

Sheet Added
A1: DrugID | B1: DrugName | C1: textSingular | D1: textPlural | E1: Lægemiddelform (lms01, felt 7) | F1: Styrke (lms01, felt 10) | G1: ATC (lms01, felt 15) | H1: ATC tekst (lms12, felt 6 (modificeret til kolonne B)) | I1: Administrationsvej (lms01, felt 16) | J1: Afregistreringsdato (lms01, felt 24)
A2: 28100123253 | B2: Marcoumar | C2: tablet | D2: tabletter | E2: =VLOOKUP($A2,'lms01'!$1:$1048576,7,FALSE) -> #N/A | F2: =VLOOKUP($A2,'lms01'!$1:$1048576,10,FALSE) -> #N/A | G2: =VLOOKUP($A2,'lms01'!$1:$1048576,15,FALSE) -> #N/A | H2: =VLOOKUP($G2,'lms12'!$A:$B,2,FALSE) -> #N/A | I2: =VLOOKUP($A2,'lms01'!$1:$1048576,16,FALSE) -> #N/A | J2: =VLOOKUP($A2,'lms01'!$1:$1048576,24,FALSE) -> #N/A
A3: 28100123355 | B3: Mestinon | C3: tablet | D3: tabletter | E3: =VLOOKUP($A3,'lms01'!$1:$1048576,7,FALSE) -> #N/A | F3: =VLOOKUP($A3,'lms01'!$1:$1048576,10,FALSE) -> #N/A | G3: =VLOOKUP($A3,'lms01'!$1:$1048576,15,FALSE) -> #N/A | H3: =VLOOKUP($G3,'lms12'!$A:$B,2,FALSE) -> #N/A | I3: =VLOOKUP($A3,'lms01'!$1:$1048576,16,FALSE) -> #N/A | J3: =VLOOKUP($A3,'lms01'!$1:$1048576,24,FALSE) -> #N/A
A4: 28100157755 | B4: Abboticin | C4: tablet | D4: tabletter | E4: =VLOOKUP($A4,'lms01'!$1:$1048576,7,FALSE) -> #N/A | F4: =VLOOKUP($A4,'lms01'!$1:$1048576,10,FALSE) -> #N/A | G4: =VLOOKUP($A4,'lms01'!$1:$1048576,15,FALSE) -> #N/A | H4: =VLOOKUP($G4,'lms12'!$A:$B,2,FALSE) -> #N/A | I4: =VLOOKUP($A4,'lms01'!$1:$1048576,16,FALSE) -> #N/A | J4: =VLOOKUP($A4,'lms01'!$1:$1048576,24,FALSE) -> #N/A
A5: 28100375161 | B5: Ercoquin | C5: tablet | D5: tabletter | E5: =VLOOKUP($A5,'lms01'!$1:$1048576,7,FALSE) -> #N/A | F5: =VLOOKUP($A5,'lms01'!$1:$1048576,10,FALSE) -> #N/A | G5: =VLOOKUP($A5,'lms01'!$1:$1048576,15,FALSE) -> #N/A | H5: =VLOOKUP($G5,'lms12'!$A:$B,2,FALSE) -> #N/A | I5: =VLOOKUP($A5,'lms01'!$1:$1048576,16,FALSE) -> #N/A | J5: =VLOOKUP($A5,'lms01'!$1:$1048576,24,FALSE) -> #N/A
A6: 28100561269 | B6: Sinquan | C6: kapsel | D6: kapsler | E6: =VLOOKUP($A6,'lms01'!$1:$1048576,7,FALSE) -> #N/A | F6: =VLOOKUP($A6,'lms01'!$1:$1048576,10,FALSE) -> #N/A | G6: =VLOOKUP($A6,'lms01'!$1:$1048576,15,FALSE) -> #N/A | H6: =VLOOKUP($G6,'lms12'!$A:$B,2,FALSE) -> #N/A | I6: =VLOOKUP($A6,'lms01'!$1:$1048576,16,FALSE) -> #N/A | J6: =VLOOKUP($A6,'lms01'!$1:$1048576,24,FALSE) -> #N/A
A7: 28100613872 | B7: Semap | C7: tablet | D7: tabletter | E7: =VLOOKUP($A7,'lms01'!$1:$1048576,7,FALSE) -> #N/A | F7: =VLOOKUP($A7,'lms01'!$1:$1048576,10,FALSE) -> #N/A | G7: =VLOOKUP($A7,'lms01'!$1:$1048576,15,FALSE) -> #N/A | H7: =VLOOKUP($G7,'lms12'!$A:$B,2,FALSE) -> #N/A | I7: =VLOOKUP($A7,'lms01'!$1:$1048576,16,FALSE) -> #N/A | J7: =VLOOKUP($A7,'lms01'!$1:$1048576,24,FALSE) -> #N/A
A8: 28100619272 | B8: Fluanxol | C8: tablet | D8: tabletter | E8: =VLOOKUP($A8,'lms01'!$1:$1048576,7,FALSE) -> #N/A | F8: =VLOOKUP($A8,'lms01'!$1:$1048576,10,FALSE) -> #N/A | G8: =VLOOKUP($A8,'lms01'!$1:$1048576,15,FALSE) -> #N/A | H8: =VLOOKUP($G8,'lms12'!$A:$B,2,FALSE) -> #N/A | I8: =VLOOKUP($A8,'lms01'!$1:$1048576,16,FALSE) -> #N/A | J8: =VLOOKUP($A8,'lms01'!$1:$1048576,24,FALSE) -> #N/A
A9: 28100656574 | B9: Diural | C9: tablet | D9: tabletter | E9: =VLOOKUP($A9,'lms01'!$1:$1048576,7,FALSE) -> #N/A | F9: =VLOOKUP($A9,'lms01'!$1:$1048576,10,FALSE) -> #N/A | G9: =VLOOKUP($A9,'lms01'!$1:$1048576,15,FALSE) -> #N/A | H9: =VLOOKUP($G9,'lms12'!$A:$B,2,FALSE) -> #N/A | I9: =VLOOKUP($A9,'lms01'!$1:$1048576,16,FALSE) -> #N/A | J9: =VLOOKUP($A9,'lms01'!$1:$1048576,24,FALSE) -> #N/A
A10: 28100671875 | B10: Bisolvon | C10: tablet | D10: tabletter | E10: =VLOOKUP($A10,'lms01'!$1:$1048576,7,FALSE) -> #N/A | F10: =VLOOKUP($A10,'lms01'!$1:$1048576,10,FALSE) -> #N/A | G10: =VLOOKUP($A10,'lms01'!$1:$1048576,15,FALSE) -> #N/A | H10: =VLOOKUP($G10,'lms12'!$A:$B,2,FALSE) -> #N/A | I10: =VLOOKUP($A10,'lms01'!$1:$1048576,16,FALSE) -> #N/A | J10: =VLOOKUP($A10,'lms01'!$1:$1048576,24,FALSE) -> #N/A
A11: 28100673175 | B11: Parlodel | C11: tablet | D11: tabletter | E11: =VLOOKUP($A11,'lms01'!$1:$1048576,7,FALSE) -> #N/A | F11: =VLOOKUP($A11,'lms01'!$1:$1048576,10,FALSE) -> #N/A | G11: =VLOOKUP($A11,'lms01'!$1:$1048576,15,FALSE) -> #N/A | H11: =VLOOKUP($G11,'lms12'!$A:$B,2,FALSE) -> #N/A | I11: =VLOOKUP($A11,'lms01'!$1:$1048576,16,FALSE) -> #N/A | J11: =VLOOKUP($A11,'lms01'!$1:$1048576,24,FALSE) -> #N/A
A12: 28100700476 | B12: A-vitamin "Medic" | C12: tablet | D12: tabletter | E12: =VLOOKUP($A12,'lms01'!$1:$1048576,7,FALSE) -> #N/A | F12: =VLOOKUP($A12,'lms01'!$1:$1048576,10,FALSE) -> #N/A | G12: =VLOOKUP($A12,'lms01'!$1:$1048576,15,FALSE) -> #N/A | H12: =VLOOKUP($G12,'lms12'!$A:$B,2,FALSE) -> #N/A | I12: =VLOOKUP($A12,'lms01'!$1:$1048576,16,FALSE) -> #N/A | J12: =VLOOKUP($A12,'lms01'!$1:$1048576,24,FALSE) -> #N/A
A13: 28100742176 | B13: Papaverin "OBA" | C13: tablet | D13: tabletter | E13: =VLOOKUP($A13,'lms01'!$1:$1048576,7,FALSE) -> #N/A | F13: =VLOOKUP($A13,'lms01'!$1:$1048576,10,FALSE) -> #N/A | G13: =VLOOKUP($A13,'lms01'!$1:$1048576,15,FALSE) -> #N/A | H13: =VLOOKUP($G13,'lms12'!$A:$B,2,FALSE) -> #N/A | I13: =VLOOKUP($A13,'lms01'!$1:$1048576,16,FALSE) -> #N/A | J13: =VLOOKUP($A13,'lms01'!$1:$1048576,24,FALSE) -> #N/A
... A3970: 28106927117 | B3970: Elebrato Ellipta | C3970: sug | D3970: sug | E3970: =VLOOKUP($A3970,'lms01'!$1:$1048576,7,FALSE) -> #N/A | F3970: =VLOOKUP($A3970,'lms01'!$1:$1048576,10,FALSE) -> #N/A | G3970: =VLOOKUP($A3970,'lms01'!$1:$1048576,15,FALSE) -> #N/A | H3970: =VLOOKUP($G3970,'lms12'!$A:$B,2,FALSE) -> #N/A | I3970: =VLOOKUP($A3970,'lms01'!$1:$1048576,16,FALSE) -> #N/A | J3970: =VLOOKUP($A3970,'lms01'!$1:$1048576,24,FALSE) -> #N/A

Sheet Removed
A1: DrugID | B1: DrugName | C1: textSingular | D1: textPlural | E1: Lægemiddelform (lms01, felt 7) | F1: Styrke (lms01, felt 10) | G1: ATC (lms01, felt 15) | H1: ATC tekst (lms12, felt 6 (modificeret til kolonne B)) | I1: Administrationsvej (lms01, felt 16) | J1: Afregistreringsdato (lms01, felt 24)
A2: 28100600471 | B2: Saroten Retard | C2: kapsel | D2: kapsler | E2: =VLOOKUP($A2,'lms01'!$1:$1048576,7,FALSE) -> #N/A | F2: =VLOOKUP($A2,'lms01'!$1:$1048576,10,FALSE) -> #N/A | G2: =VLOOKUP($A2,'lms01'!$1:$1048576,15,FALSE) -> #N/A | H2: =VLOOKUP($G2,'lms12'!$A:$B,2,FALSE) -> #N/A | I2: =VLOOKUP($A2,'lms01'!$1:$1048576,16,FALSE) -> #N/A | J2: =VLOOKUP($A2,'lms01'!$1:$1048576,24,FALSE) -> #N/A
A3: 28100690976 | B3: Tenormin | C3: tablet | D3: tabletter | E3: =VLOOKUP($A3,'lms01'!$1:$1048576,7,FALSE) -> #N/A | F3: =VLOOKUP($A3,'lms01'!$1:$1048576,10,FALSE) -> #N/A | G3: =VLOOKUP($A3,'lms01'!$1:$1048576,15,FALSE) -> #N/A | H3: =VLOOKUP($G3,'lms12'!$A:$B,2,FALSE) -> #N/A | I3: =VLOOKUP($A3,'lms01'!$1:$1048576,16,FALSE) -> #N/A | J3: =VLOOKUP($A3,'lms01'!$1:$1048576,24,FALSE) -> #N/A
A4: 28100691076 | B4: Tenormin | C4: tablet | D4: tabletter | E4: =VLOOKUP($A4,'lms01'!$1:$1048576,7,FALSE) -> #N/A | F4: =VLOOKUP($A4,'lms01'!$1:$1048576,10,FALSE) -> #N/A | G4: =VLOOKUP($A4,'lms01'!$1:$1048576,15,FALSE) -> #N/A | H4: =VLOOKUP($G4,'lms12'!$A:$B,2,FALSE) -> #N/A | I4: =VLOOKUP($A4,'lms01'!$1:$1048576,16,FALSE) -> #N/A | J4: =VLOOKUP($A4,'lms01'!$1:$1048576,24,FALSE) -> #N/A
A5: 28100993978 | B5: Lasix Retard | C5: kapsel | D5: kapsler | E5: =VLOOKUP($A5,'lms01'!$1:$1048576,7,FALSE) -> #N/A | F5: =VLOOKUP($A5,'lms01'!$1:$1048576,10,FALSE) -> #N/A | G5: =VLOOKUP($A5,'lms01'!$1:$1048576,15,FALSE) -> #N/A | H5: =VLOOKUP($G5,'lms12'!$A:$B,2,FALSE) -> #N/A | I5: =VLOOKUP($A5,'lms01'!$1:$1048576,16,FALSE) -> #N/A | J5: =VLOOKUP($A5,'lms01'!$1:$1048576,24,FALSE) -> #N/A
A6: 28100994978 | B6: Emperal | C6: tablet | D6: tabletter | E6: =VLOOKUP($A6,'lms01'!$1:$1048576,7,FALSE) -> #N/A | F6: =VLOOKUP($A6,'lms01'!$1:$1048576,10,FALSE) -> #N/A | G6: =VLOOKUP($A6,'lms01'!$1:$1048576,15,FALSE) -> #N/A | H6: =VLOOKUP($G6,'lms12'!$A:$B,2,FALSE) -> #N/A | I6: =VLOOKUP($A6,'lms01'!$1:$1048576,16,FALSE) -> #N/A | J6: =VLOOKUP($A6,'lms01'!$1:$1048576,24,FALSE) -> #N/A
A7: 28101011571 | B7: Saroten Retard | C7: kapsel | D7: kapsler | E7: =VLOOKUP($A7,'lms01'!$1:$1048576,7,FALSE) -> #N/A | F7: =VLOOKUP($A7,'lms01'!$1:$1048576,10,FALSE) -> #N/A | G7: =VLOOKUP($A7,'lms01'!$1:$1048576,15,FALSE) -> #N/A | H7: =VLOOKUP($G7,'lms12'!$A:$B,2,FALSE) -> #N/A | I7: =VLOOKUP($A7,'lms01'!$1:$1048576,16,FALSE) -> #N/A | J7: =VLOOKUP($A7,'lms01'!$1:$1048576,24,FALSE) -> #N/A
A8: 28101145783 | B8: Adalat | C8: tablet | D8: tabletter | E8: =VLOOKUP($A8,'lms01'!$1:$1048576,7,FALSE) -> #N/A | F8: =VLOOKUP($A8,'lms01'!$1:$1048576,10,FALSE) -> #N/A | G8: =VLOOKUP($A8,'lms01'!$1:$1048576,15,FALSE) -> #N/A | H8: =VLOOKUP($G8,'lms12'!$A:$B,2,FALSE) -> #N/A | I8: =VLOOKUP($A8,'lms01'!$1:$1048576,16,FALSE) -> #N/A | J8: =VLOOKUP($A8,'lms01'!$1:$1048576,24,FALSE) -> #N/A
A9: 28101228685 | B9: Adalat | C9: tablet | D9: tabletter | E9: =VLOOKUP($A9,'lms01'!$1:$1048576,7,FALSE) -> #N/A | F9: =VLOOKUP($A9,'lms01'!$1:$1048576,10,FALSE) -> #N/A | G9: =VLOOKUP($A9,'lms01'!$1:$1048576,15,FALSE) -> #N/A | H9: =VLOOKUP($G9,'lms12'!$A:$B,2,FALSE) -> #N/A | I9: =VLOOKUP($A9,'lms01'!$1:$1048576,16,FALSE) -> #N/A | J9: =VLOOKUP($A9,'lms01'!$1:$1048576,24,FALSE) -> #N/A
A10: 28101267686 | B10: Humulin NPH | C10: IE | D10: IE | E10: =VLOOKUP($A10,'lms01'!$1:$1048576,7,FALSE) -> #N/A | F10: =VLOOKUP($A10,'lms01'!$1:$1048576,10,FALSE) -> #N/A | G10: =VLOOKUP($A10,'lms01'!$1:$1048576,15,FALSE) -> #N/A | H10: =VLOOKUP($G10,'lms12'!$A:$B,2,FALSE) -> #N/A | I10: =VLOOKUP($A10,'lms01'!$1:$1048576,16,FALSE) -> #N/A | J10: =VLOOKUP($A10,'lms01'!$1:$1048576,24,FALSE) -> #N/A
A11: 28101320687 | B11: Ibumetin Retard | C11: tablet | D11: tabletter | E11: =VLOOKUP($A11,'lms01'!$1:$1048576,7,FALSE) -> #N/A | F11: =VLOOKUP($A11,'lms01'!$1:$1048576,10,FALSE) -> #N/A | G11: =VLOOKUP($A11,'lms01'!$1:$1048576,15,FALSE) -> #N/A | H11: =VLOOKUP($G11,'lms12'!$A:$B,2,FALSE) -> #N/A | I11: =VLOOKUP($A11,'lms01'!$1:$1048576,16,FALSE) -> #N/A | J11: =VLOOKUP($A11,'lms01'!$1:$1048576,24,FALSE) -> #N/A
A12: 28101333788 | B12: Nizoral | C12: vask | D12: vaske | E12: =VLOOKUP($A12,'lms01'!$1:$1048576,7,FALSE) -> shampoo | F12: =VLOOKUP($A12,'lms01'!$1:$1048576,10,FALSE) -> 0.02 | G12: =VLOOKUP($A12,'lms01'!$1:$1048576,15,FALSE) -> D01AC08 | H12: =VLOOKUP($G12,'lms12'!$A:$B,2,FALSE) -> Ketoconazol | I12: =VLOOKUP($A12,'lms01'!$1:$1048576,16,FALSE) -> KU | J12: =VLOOKUP($A12,'lms01'!$1:$1048576,24,FALSE) -> 0
A13: 28101337988 | B13: Tenormin | C13: tablet | D13: tabletter | E13: =VLOOKUP($A13,'lms01'!$1:$1048576,7,FALSE) -> #N/A | F13: =VLOOKUP($A13,'lms01'!$1:$1048576,10,FALSE) -> #N/A | G13: =VLOOKUP($A13,'lms01'!$1:$1048576,15,FALSE) -> #N/A | H13: =VLOOKUP($G13,'lms12'!$A:$B,2,FALSE) -> #N/A | I13: =VLOOKUP($A13,'lms01'!$1:$1048576,16,FALSE) -> #N/A | J13: =VLOOKUP($A13,'lms01'!$1:$1048576,24,FALSE) -> #N/A
... A233: 28105801216 | B233: Visacor | C233: tablet | D233: tabletter | E233: =VLOOKUP($A233,'lms01'!$1:$1048576,7,FALSE) -> #N/A | F233: =VLOOKUP($A233,'lms01'!$1:$1048576,10,FALSE) -> #N/A | G233: =VLOOKUP($A233,'lms01'!$1:$1048576,15,FALSE) -> #N/A | H233: =VLOOKUP($G233,'lms12'!$A:$B,2,FALSE) -> #N/A | I233: =VLOOKUP($A233,'lms01'!$1:$1048576,16,FALSE) -> #N/A | J233: =VLOOKUP($A233,'lms01'!$1:$1048576,24,FALSE) -> #N/A

Sheet Changed
A1: DrugID | B1: DrugName | C1: textSingular | D1: textPlural | E1: Lægemiddelform (lms01, felt 7) | F1: Styrke (lms01, felt 10) | G1: ATC (lms01, felt 15) | H1: ATC tekst (lms12, felt 6 (modificeret til kolonne B)) | I1: Administrationsvej (lms01, felt 16) | J1: Afregistreringsdato (lms01, felt 24)
A2: 28103182600 | B2: Engerix-B 20 mikrogram/1 ml | C2: dosis | D2: doser | E2: =VLOOKUP($A2,'lms01'!$1:$1048576,7,FALSE) -> inj.vsk,susp,spr›jte | F2: =VLOOKUP($A2,'lms01'!$1:$1048576,10,FALSE) -> 20 mikrogram/ml | G2: =VLOOKUP($A2,'lms01'!$1:$1048576,15,FALSE) -> J07BC01 | H2: =VLOOKUP($G2,'lms12'!$A:$B,2,FALSE) -> Hepatitis b, renset antigen | I2: =VLOOKUP($A2,'lms01'!$1:$1048576,16,FALSE) -> IM | J2: =VLOOKUP($A2,'lms01'!$1:$1048576,24,FALSE) -> 0
A3: 28105794795 | B3: Innohep | C3: injektionssprøjte | D3: injektionssprøjter | E3: =VLOOKUP($A3,'lms01'!$1:$1048576,7,FALSE) -> inj.vsk,opl.,spr›jte | F3: =VLOOKUP($A3,'lms01'!$1:$1048576,10,FALSE) -> 8.000 anti-Xa IE | G3: =VLOOKUP($A3,'lms01'!$1:$1048576,15,FALSE) -> B01AB10 | H3: =VLOOKUP($G3,'lms12'!$A:$B,2,FALSE) -> Tinzaparin | I3: =VLOOKUP($A3,'lms01'!$1:$1048576,16,FALSE) -> SC | J3: =VLOOKUP($A3,'lms01'!$1:$1048576,24,FALSE) -> 0
A4: 28105794895 | B4: Innohep | C4: injektionssprøjte | D4: injektionssprøjter | E4: =VLOOKUP($A4,'lms01'!$1:$1048576,7,FALSE) -> inj.vsk,opl.,spr›jte | F4: =VLOOKUP($A4,'lms01'!$1:$1048576,10,FALSE) -> 10.000 anti-Xa IE | G4: =VLOOKUP($A4,'lms01'!$1:$1048576,15,FALSE) -> B01AB10 | H4: =VLOOKUP($G4,'lms12'!$A:$B,2,FALSE) -> Tinzaparin | I4: =VLOOKUP($A4,'lms01'!$1:$1048576,16,FALSE) -> SC | J4: =VLOOKUP($A4,'lms01'!$1:$1048576,24,FALSE) -> 0
A5: 28105794995 | B5: Innohep | C5: injektionssprøjte | D5: injektionssprøjter | E5: =VLOOKUP($A5,'lms01'!$1:$1048576,7,FALSE) -> inj.vsk,opl.,spr›jte | F5: =VLOOKUP($A5,'lms01'!$1:$1048576,10,FALSE) -> 12.000 anti-Xa IE | G5: =VLOOKUP($A5,'lms01'!$1:$1048576,15,FALSE) -> B01AB10 | H5: =VLOOKUP($G5,'lms12'!$A:$B,2,FALSE) -> Tinzaparin | I5: =VLOOKUP($A5,'lms01'!$1:$1048576,16,FALSE) -> SC | J5: =VLOOKUP($A5,'lms01'!$1:$1048576,24,FALSE) -> 0
A6: 28105795095 | B6: Innohep | C6: injektionssprøjte | D6: injektionssprøjter | E6: =VLOOKUP($A6,'lms01'!$1:$1048576,7,FALSE) -> inj.vsk,opl.,spr›jte | F6: =VLOOKUP($A6,'lms01'!$1:$1048576,10,FALSE) -> 14.000 anti-Xa IE | G6: =VLOOKUP($A6,'lms01'!$1:$1048576,15,FALSE) -> B01AB10 | H6: =VLOOKUP($G6,'lms12'!$A:$B,2,FALSE) -> Tinzaparin | I6: =VLOOKUP($A6,'lms01'!$1:$1048576,16,FALSE) -> SC | J6: =VLOOKUP($A6,'lms01'!$1:$1048576,24,FALSE) -> 0
A7: 28105795195 | B7: Innohep | C7: injektionssprøjte | D7: injektionssprøjter | E7: =VLOOKUP($A7,'lms01'!$1:$1048576,7,FALSE) -> inj.vsk,opl.,spr›jte | F7: =VLOOKUP($A7,'lms01'!$1:$1048576,10,FALSE) -> 16.000 anti-Xa IE | G7: =VLOOKUP($A7,'lms01'!$1:$1048576,15,FALSE) -> B01AB10 | H7: =VLOOKUP($G7,'lms12'!$A:$B,2,FALSE) -> Tinzaparin | I7: =VLOOKUP($A7,'lms01'!$1:$1048576,16,FALSE) -> SC | J7: =VLOOKUP($A7,'lms01'!$1:$1048576,24,FALSE) -> 0
A8: 28105795295 | B8: Innohep | C8: injektionssprøjte | D8: injektionssprøjter | E8: =VLOOKUP($A8,'lms01'!$1:$1048576,7,FALSE) -> inj.vsk,opl.,spr›jte | F8: =VLOOKUP($A8,'lms01'!$1:$1048576,10,FALSE) -> 18.000 anti-Xa IE | G8: =VLOOKUP($A8,'lms01'!$1:$1048576,15,FALSE) -> B01AB10 | H8: =VLOOKUP($G8,'lms12'!$A:$B,2,FALSE) -> Tinzaparin | I8: =VLOOKUP($A8,'lms01'!$1:$1048576,16,FALSE) -> SC | J8: =VLOOKUP($A8,'lms01'!$1:$1048576,24,FALSE) -> 0
A9: 28105795395 | B9: Innohep | C9: injektionssprøjte | D9: injektionssprøjter | E9: =VLOOKUP($A9,'lms01'!$1:$1048576,7,FALSE) -> inj.vsk,opl.,spr›jte | F9: =VLOOKUP($A9,'lms01'!$1:$1048576,10,FALSE) -> 2.500 anti-Xa IE | G9: =VLOOKUP($A9,'lms01'!$1:$1048576,15,FALSE) -> B01AB10 | H9: =VLOOKUP($G9,'lms12'!$A:$B,2,FALSE) -> Tinzaparin | I9: =VLOOKUP($A9,'lms01'!$1:$1048576,16,FALSE) -> SC | J9: =VLOOKUP($A9,'lms01'!$1:$1048576,24,FALSE) -> 0
A10: 28105795495 | B10: Innohep | C10: injektionssprøjte | D10: injektionssprøjter | E10: =VLOOKUP($A10,'lms01'!$1:$1048576,7,FALSE) -> inj.vsk,opl.,spr›jte | F10: =VLOOKUP($A10,'lms01'!$1:$1048576,10,FALSE) -> 3.500 anti-Xa IE | G10: =VLOOKUP($A10,'lms01'!$1:$1048576,15,FALSE) -> B01AB10 | H10: =VLOOKUP($G10,'lms12'!$A:$B,2,FALSE) -> Tinzaparin | I10: =VLOOKUP($A10,'lms01'!$1:$1048576,16,FALSE) -> SC | J10: =VLOOKUP($A10,'lms01'!$1:$1048576,24,FALSE) -> 0
A11: 28105795595 | B11: Innohep | C11: injektionssprøjte | D11: injektionssprøjter | E11: =VLOOKUP($A11,'lms01'!$1:$1048576,7,FALSE) -> inj.vsk,opl.,spr›jte | F11: =VLOOKUP($A11,'lms01'!$1:$1048576,10,FALSE) -> 4.500 anti-Xa IE | G11: =VLOOKUP($A11,'lms01'!$1:$1048576,15,FALSE) -> B01AB10 | H11: =VLOOKUP($G11,'lms12'!$A:$B,2,FALSE) -> Tinzaparin | I11: =VLOOKUP($A11,'lms01'!$1:$1048576,16,FALSE) -> SC | J11: =VLOOKUP($A11,'lms01'!$1:$1048576,24,FALSE) -> 0

Sheet lms01
A1: 01 | B1: 02 | C1: 03 | D1: 04 | E1: 05 | F1: 06 | G1: 07 | H1: 08 | I1: 09 | J1: 10 | K1: 11 | L1: 12 | M1: 13 | N1: 14 | O1: 15 | P1: 16 | Q1: 17 | R1: 18 | S1: 19 | T1: 20 | U1: 21 | V1: 22 | W1: 23 | X1: 24 | Y1: 25
A2: DrugID | B2: Varetype | C2: Varedeltype | D2: Alfabet. sekvensplads | E2: Spec. nummer | F2: Navn | G2: Lægemiddelform, tekst | H2: Form-kode | I2: Kode for yderligere form-oplysn. | J2: Styrke (klar tekst) | K2: Styrke, numerisk | L2: Styrke, enhed | M2: MT-indehaver | N2: Repræsentant (distributør) | O2: ATC | P2: Administrationsvej | Q2: Trafikadvarsel | R2: Substitution | S2: Blank | T2: Blank | U2: Blank | V2: Lægemidlets substitutionsgruppe | W2: Egnet til dosisdispensering | X2: Dato for afregistr. af lægemiddel | Y2: Karantænedato
A3: DrugID | B3: Varetype | C3: Varedeltype | D3: Alfabet. sekvensplads | E3: Spec. nummer | F3: Navn | G3: Produktform, tekst | H3: Form-kode | I3: Kode for yderligere form-oplysn. | J3: Styrke (klar tekst) | K3: Styrke, numerisk | L3: Styrke, enhed | M3: Mellemproduktfremstiller | N3: Mellemproduktfremstiller | O3: ATC | P3: Administrationsvej | Q3: Trafikadvarsel | R3: Substitution | S3: Blank | T3: Blank | U3: Blank | V3: Cannabisproduktets substitutionsgruppe | W3: Egnet til dosisdispensering | X3: Dato for afregistr. af cannabisprodukt | Y3: Karantænedato
A4: 11 | B4: 2 | C4: 2 | D4: 9 | E4: 5 | F4: 30 | G4: 20 | H4: 7 | I4: 7 | J4: 20 | K4: 10 | L4: 3 | M4: 6 | N4: 6 | O4: 8 | P4: 8 | Q4: 1 | R4: 1 | S4: 1 | T4: 1 | U4: 1 | V4: 4 | W4: 1 | X4: 8 | Y4: 8
A5: 1-11 | B5: 12-13 | C5: 14-15 | D5: 16-24 | E5: 25-29 | F5: 30-59 | G5: 60-79 | H5: 80-86 | I5: 87-93 | J5: 94-113 | K5: 114-123 | L5: 124-126 | M5: 127-132 | N5: 133-138 | O5: 139-146 | P5: 147-154 | Q5: 155 | R5: 156 | S5: 157 | T5: 158 | U5: 159 | V5: 160-163 | W5: 164 | X5: 165-172 | Y5: 173-180
B6: Udfyldt med SP (Specialiteter) | C6: Udfyldt med LM (lægemiddel, reg.) eller MC (Cannabisprodukt) | E6: D.sp.nr. (decentrale) - Alm. nr (centrale) | F6: Evt. forkortet | G6: Evt. forkortet | H6: Ref. t. LMS22, felt 01 | I6: Feltet er tomt pt. | L6: Ref. t. LMS15, enhedstype 3 | M6: Ref. t. LMS09 | N6: Ref. t. LMS09 | O6: Ref. t. LMS12 | P6: 4 x 2 kar. (Ref. t. LMS11) | Q6: 2 muligh.: J eller blank | R6: 2 muligh.: G eller blank | V6: Substitutionsgruppenr. på DrugID-niveau | W6: 2 muligh.: D eller blank | X6: Format: ååååmmdd | Y6: Format: ååååmmdd
A7: 28100009555 | B7: SP | C7: LM | D7: KEMADR001 | E7: 65 | F7: Kemadrin | G7: tabletter | H7: TAB | J7: 5 mg | K7: 5000 | L7: MG | M7: 267266 | N7: 272482 | O7: N04AA04 | P7: OR | W7: D
A8: 28100010554 | B8: SP | C8: LM | D8: MARZIN001 | E8: 1348 | F8: Marzine | G8: tabletter | H8: TAB | J8: 50 mg | K8: 50000 | L8: MG | M8: 254766 | N8: 254766 | O8: R06AE03 | P8: OR | Q8: J | R8: G | V8: 7237 | W8: D
A9: 28100020455 | B9: SP | C9: LM | D9: ELTROX002 | E9: 77 | F9: Eltroxin | G9: tabletter | H9: TAB | J9: 100 mikrogram | K9: 100000 | L9: RG | M9: 267266 | N9: 272482 | O9: H03AA01 | P9: OR | R9: G | V9: 7401 | W9: D
A10: 28100021255 | B10: SP | C10: LM | D10: POSTAF001 | E10: 84 | F10: Postafen | G10: tabletter | H10: TAB | J10: 25 mg | K10: 25000 | L10: MG | M10: 271985 | N10: 272731 | O10: R06AE05 | P10: OR | Q10: J | W10: D
A11: 28100041255 | B11: SP | C11: LM | D11: DIAMOX001 | E11: 206 | F11: Diamox | G11: tabletter | H11: TAB | J11: 250 mg | K11: 250000 | L11: MG | M11: 267528 | N11: 255247 | O11: S01EC01 | P11: OR | R11: G | V11: 7801 | W11: D
A12: 28100049355 | B12: SP | C12: LM | D12: HYDROC004 | E12: 299 | F12: Hydrocortison med Terramycin | G12: salve | H12: SALV | J12: 10 + 30 mg/g | K12: 0 | M12: 61800 | N12: 61800 | O12: D07CA01 | P12: KU | R12: G | V12: 7773
A13: 28100049555 | B13: SP | C13: LM | D13: HEPARI003 | E13: 501 | F13: Heparin "Leo" | G13: inj.v‘ske, opl›sning | H13: INJVSKO | J13: 5.000 IE/ml | K13: 5000000 | L13: IUM | M13: 34800 | N13: 34800 | O13: B01AB01 | P13: IV | R13: G | V13: 4032
A14: 28100052255 | B14: SP | C14: LM | D14: TERRAM004 | E14: 71 | F14: Terramycin-Polymyxin B | G14: salve | H14: SALV | J14: 30+1 mg/g | K14: 0 | M14: 61800 | N14: 61800 | O14: D06AA03 | P14: KU
A15: 28100074555 | B15: SP | C15: LM | D15: PARAGH001 | E15: 690 | F15: Paraghurt | G15: tabletter | H15: TAB | K15: 0 | M15: 258171 | N15: 272406 | O15: A07FA01 | P15: OR | W15: D
A16: 28100096555 | B16: SP | C16: LM | D16: NEO-ME001 | E16: 864 | F16: Neo-mercazole | G16: overtrukne tabletter | H16: TABOTR | J16: 5 mg | K16: 5000 | L16: MG | M16: 255247 | N16: 255247 | O16: H03BB01 | P16: OR | W16: D
A17: 28100103155 | B17: SP | C17: LM | D17: HIRUDO002 | E17: 920 | F17: Hirudoid | G17: salve | H17: SALV | J17: 3 mg/g | K17: 3000 | L17: MGG | M17: 147100 | N17: 250000 | O17: C05BA01 | P17: KU
A18: 28100105055 | B18: SP | C18: LM | D18: INOTYO001 | E18: 892 | F18: Inotyol | G18: salve | H18: SALV | K18: 0 | M18: 268602 | N18: 268602 | O18: D05AA | P18: KU
A19: 28100107155 | B19: SP | C19: LM | D19: BENYLA002 | E19: 958 | F19: Benylan | G19: oral opl›sning | H19: ORALOPL | J19: 2,8 mg/ml | K19: 2800 | L19: MGM | M19: 258318 | N19: 258318 | O19: R06AA02 | P19: OR | Q19: J
A20: 28100110949 | B20: SP | C20: LM | D20: XYLOCA002 | E20: 985 | F20: Xylocain | G20: inj.v‘ske, opl›sning | H20: INJVSKO | J20: 10 mg/ml | K20: 10000 | L20: MGM | M20: 267589 | N20: 272482 | O20: N01BB02 | P20: EDIRIVPE
A21: 28100111155 | B21: SP | C21: LM | D21: XYLOCA007 | E21: 986 | F21: Xylocain-adrenalin | G21: inj.v‘ske, opl›sning | H21: INJVSKO | J21: 10 mg/ml+5 mikrog/ml | K21: 0 | M21: 267589 | N21: 272482 | O21: N01BB52 | P21: EDIRPE | R21: G | V21: 7567
A22: 28100115155 | B22: SP | C22: LM | D22: VETALG001 | E22: 104 | F22: Vetalgin Vet. | G22: inj.v‘ske, opl›sning | H22: INJVSKO | J22: 500 mg/ml | K22: 500000 | L22: MGM | M22: 31500 | N22: 271482 | O22: QN02BB02 | P22: IV
A23: 28100122055 | B23: SP | C23: LM | D23: BUSCOP002 | E23: 1074 | F23: Buscopan | G23: overtrukne tabletter | H23: TABOTR | J23: 10 mg | K23: 10000 | L23: MG | M23: 257842 | N23: 257842 | O23: A03BB01 | P23: OR | R23: G | V23: 7518 | W23: D
A24: 28100137555 | B24: SP | C24: LM | D24: SALAZO001 | E24: 1190 | F24: Salazopyrin | G24: tabletter | H24: TAB | J24: 500 mg | K24: 500000 | L24: MG | M24: 61800 | N24: 61800 | O24: A07EC01 | P24: OR | R24: G | V24: 505 | W24: D
A25: 28100142255 | B25: SP | C25: LM | D25: PHENER001 | E25: 1215 | F25: Phenergan | G25: oral opl›sning | H25: ORALOPL | J25: 1 mg/ml | K25: 1000 | L25: MGM | M25: 257228 | N25: 257228 | O25: R06AD02 | P25: OR | Q25: J | R25: G | V25: 7211
A26: 28100161255 | B26: SP | C26: LM | D26: KONAKI001 | E26: 1088 | F26: Konakion Novum | G26: inj.v‘ske, opl›sning | H26: INJVSKO | J26: 10 mg/ml | K26: 10000 | L26: MGM | M26: 62700 | N26: 62700 | O26: B02BA01 | P26: IMIVOR | R26: G | V26: 7714
A27: 28100165055 | B27: SP | C27: LM | D27: SOLU-C001 | E27: 1328 | F27: Solu-cortef | G27: pulv.og sol.t.inj.op | H27: INJPSO | J27: 100 mg | K27: 100000 | L27: MG | M27: 61800 | N27: 61800 | O27: H02AB09 | P27: IMIV | R27: G | V27: 7574
A28: 28100165654 | B28: SP | C28: LM | D28: HIBITA001 | E28: 1630 | F28: Hibitane | G28: vaginalcreme | H28: VAGCREM | J28: 0.01 | K28: 1000 | L28: PC | M28: 11231 | N28: 11231 | O28: D08AC02 | P28: VA
A29: 28100187056 | B29: SP | C29: LM | D29: RITALI001 | E29: 1408 | F29: Ritalin | G29: tabletter | H29: TAB | J29: 10 mg | K29: 10000 | L29: MG | M29: 265285 | N29: 265285 | O29: N06BA04 | P29: OR | Q29: J | R29: G | V29: 975 | W29: D
A30: 28100193656 | B30: SP | C30: LM | D30: STREPT002 | E30: 1398 | F30: Streptocillin Vet. | G30: inj.v‘ske,suspension | H30: INJVSKS | J30: 200000 IE +250 mg/ml | K30: 0 | M30: 274106 | N30: 274106 | O30: QJ01RA01 | P30: IM
A31: 28100223956 | B31: SP | C31: LM | D31: DIHYDR001 | E31: 258 | F31: Dihydrostreptomycin Agrov. Vet | G31: tabletter | H31: TAB | J31: 500 mg | K31: 500000 | L31: MG | M31: 274106 | N31: 274106 | O31: QA07AA90 | P31: OR
A32: 28100230857 | B32: SP | C32: LM | D32: ULTRAC001 | E32: 1646 | F32: Ultracortenol | G32: ›jensalve | H32: OJSALV | J32: 0.005 | K32: 500 | L32: PC | M32: 268597 | N32: 268597 | O32: S01BA04 | P32: CO
A33: 28100231857 | B33: SP | C33: LM | D33: AKINET002 | E33: 1659 | F33: Akineton | G33: tabletter | H33: TAB | J33: 2 mg | K33: 2000 | L33: MG | M33: 255906 | N33: 255906 | O33: N04AA02 | P33: OR | R33: G | V33: 7754 | W33: D
A34: 28100232757 | B34: SP | C34: LM | D34: DULCOL001 | E34: 1603 | F34: Dulcolax | G34: enterotabletter | H34: ENTTAB | J34: 5 mg | K34: 5000 | L34: MG | M34: 257842 | N34: 257842 | O34: A06AB02 | P34: OR | W34: D
A35: 28100234057 | B35: SP | C35: LM | D35: STEMET001 | E35: 1717 | F35: Stemetil | G35: tabletter | H35: TAB | J35: 5 mg | K35: 5000 | L35: MG | M35: 257228 | N35: 257228 | O35: N05AB04 | P35: OR | W35: D
A36: 28100245657 | B36: SP | C36: LM | D36: SYNTOC001 | E36: 1709 | F36: Syntocinon | G36: inj.v‘ske, opl›sning | H36: INJVSKO | J36: 10 IE/ml | K36: 10000 | L36: IUM | M36: 273116 | N36: 271932 | O36: H01BB02 | P36: IMIV | R36: G | V36: 7091
A37: 28100245757 | B37: SP | C37: LM | D37: MEDROL001 | E37: 1708 | F37: Medrol | G37: tabletter | H37: TAB | J37: 4 mg | K37: 4000 | L37: MG | M37: 61800 | N37: 61800 | O37: H02AB04 | P37: OR | R37: G | V37: 2093 | W37: D
A38: 28100249157 | B38: SP | C38: LM | D38: AKINET001 | E38: 1659 | F38: Akineton | G38: inj.v‘ske, opl›sning | H38: INJVSKO | J38: 5 mg/ml | K38: 5000 | L38: MGM | M38: 255906 | N38: 255906 | O38: N04AA02 | P38: IMIV
A39: 28100257658 | B39: SP | C39: LM | D39: PLEGIC001 | E39: 1750 | F39: Plegicil Vet. | G39: inj.v‘ske, opl›sning | H39: INJVSKO | J39: 10 mg/ml | K39: 10000 | L39: MGM | M39: 254979 | N39: 260458 | O39: QN05AA04 | P39: IMIV
A40: 28100259658 | B40: SP | C40: LM | D40: PLAQUE001 | E40: 1756 | F40: Plaquenil | G40: filmovertrukne tabl. | H40: TABFILM | J40: 200 mg | K40: 200000 | L40: MG | M40: 257228 | N40: 257228 | O40: P01BA02 | P40: OR | R40: G | V40: 2537 | W40: D
...

Sheet lms12
A1: ATC | B1: Tekst
A2: A | B2: Ford›jelsesorganer og stofskifte
A3: A01 | B3: Midler mod sygdomme i mundhulen
A4: A01A | B4: Stomatologica
A5: A01AA | B5: Midler mod caries
A6: A01AA01 | B6: Natriumfluorid
A7: A01AA02 | B7: Natriummonofluorophosphat
A8: A01AA03 | B8: Olaflur
A9: A01AA04 | B9: Stannofluorid
A10: A01AA30 | B10: Kombinationer
A11: A01AA51 | B11: Natriumfluorid, komb.
A12: A01AB | B12: Antiinfectiva til lokal brug i mundhulen
... A13301: V20 | B13301: Surgical dressings
