Workbook

Sheet Total
A1: DrugID | B1: DrugName | C1: textSingular | D1: textPlural | E1: Lægemiddelform (lms01, felt 7) | F1: Styrke (lms01, felt 10) | G1: ATC (lms01, felt 15) | H1: ATC tekst (lms12, felt 6 (modificeret til kolonne B)) | I1: Administrationsvej (lms01, felt 16) | J1: Afregistreringsdato (lms01, felt 24) | K1: Findes DrugID i Added
A2: 28100009555 | B2: Kemadrin | C2: tablet | D2: tabletter | E2: =VLOOKUP($A2,'lms01'!$1:$1048576,7,FALSE) -> tabletter | F2: =VLOOKUP($A2,'lms01'!$1:$1048576,10,FALSE) -> 5 mg | G2: =VLOOKUP($A2,'lms01'!$1:$1048576,15,FALSE) -> N04AA04 | H2: =VLOOKUP($G2,'lms12'!$A:$B,2,FALSE) -> Procyclidin | I2: =VLOOKUP($A2,'lms01'!$1:$1048576,16,FALSE) -> OR | J2: =VLOOKUP($A2,'lms01'!$1:$1048576,24,FALSE) -> 0
A3: 28100010554 | B3: Marzine | C3: tablet | D3: tabletter | E3: =VLOOKUP($A3,'lms01'!$1:$1048576,7,FALSE) -> tabletter | F3: =VLOOKUP($A3,'lms01'!$1:$1048576,10,FALSE) -> 50 mg | G3: =VLOOKUP($A3,'lms01'!$1:$1048576,15,FALSE) -> R06AE03 | H3: =VLOOKUP($G3,'lms12'!$A:$B,2,FALSE) -> Cyclizin | I3: =VLOOKUP($A3,'lms01'!$1:$1048576,16,FALSE) -> OR | J3: =VLOOKUP($A3,'lms01'!$1:$1048576,24,FALSE) -> 0
A4: 28100020455 | B4: Eltroxin | C4: tablet | D4: tabletter | E4: =VLOOKUP($A4,'lms01'!$1:$1048576,7,FALSE) -> tabletter | F4: =VLOOKUP($A4,'lms01'!$1:$1048576,10,FALSE) -> 100 mikrogram | G4: =VLOOKUP($A4,'lms01'!$1:$1048576,15,FALSE) -> H03AA01 | H4: =VLOOKUP($G4,'lms12'!$A:$B,2,FALSE) -> Levothyroxinnatrium | I4: =VLOOKUP($A4,'lms01'!$1:$1048576,16,FALSE) -> OR | J4: =VLOOKUP($A4,'lms01'!$1:$1048576,24,FALSE) -> 0
A5: 28100021255 | B5: Postafen | C5: tablet | D5: tabletter | E5: =VLOOKUP($A5,'lms01'!$1:$1048576,7,FALSE) -> tabletter | F5: =VLOOKUP($A5,'lms01'!$1:$1048576,10,FALSE) -> 25 mg | G5: =VLOOKUP($A5,'lms01'!$1:$1048576,15,FALSE) -> R06AE05 | H5: =VLOOKUP($G5,'lms12'!$A:$B,2,FALSE) -> Meclozin | I5: =VLOOKUP($A5,'lms01'!$1:$1048576,16,FALSE) -> OR | J5: =VLOOKUP($A5,'lms01'!$1:$1048576,24,FALSE) -> 0
A6: 28100041255 | B6: Diamox | C6: tablet | D6: tabletter | E6: =VLOOKUP($A6,'lms01'!$1:$1048576,7,FALSE) -> tabletter | F6: =VLOOKUP($A6,'lms01'!$1:$1048576,10,FALSE) -> 250 mg | G6: =VLOOKUP($A6,'lms01'!$1:$1048576,15,FALSE) -> S01EC01 | H6: =VLOOKUP($G6,'lms12'!$A:$B,2,FALSE) -> Acetazolamid | I6: =VLOOKUP($A6,'lms01'!$1:$1048576,16,FALSE) -> OR | J6: =VLOOKUP($A6,'lms01'!$1:$1048576,24,FALSE) -> 0
A7: 28100042855 | B7: Methergin | C7: tablet | D7: tabletter | E7: =VLOOKUP($A7,'lms01'!$1:$1048576,7,FALSE) -> #N/A | F7: =VLOOKUP($A7,'lms01'!$1:$1048576,10,FALSE) -> #N/A | G7: =VLOOKUP($A7,'lms01'!$1:$1048576,15,FALSE) -> #N/A | H7: =VLOOKUP($G7,'lms12'!$A:$B,2,FALSE) -> #N/A | I7: =VLOOKUP($A7,'lms01'!$1:$1048576,16,FALSE) -> #N/A | J7: =VLOOKUP($A7,'lms01'!$1:$1048576,24,FALSE) -> #N/A
A8: 28100049355 | B8: Hydrocortison med Terramycin | C8: påsmøring | D8: påsmøringer | E8: =VLOOKUP($A8,'lms01'!$1:$1048576,7,FALSE) -> salve | F8: =VLOOKUP($A8,'lms01'!$1:$1048576,10,FALSE) -> 10 + 30 mg/g | G8: =VLOOKUP($A8,'lms01'!$1:$1048576,15,FALSE) -> D07CA01 | H8: =VLOOKUP($G8,'lms12'!$A:$B,2,FALSE) -> Hydrocortison og antibiotica | I8: =VLOOKUP($A8,'lms01'!$1:$1048576,16,FALSE) -> KU | J8: =VLOOKUP($A8,'lms01'!$1:$1048576,24,FALSE) -> 0
A9: 28100049555 | B9: Heparin "Leo" | C9: ml | D9: ml | E9: =VLOOKUP($A9,'lms01'!$1:$1048576,7,FALSE) -> inj.v‘ske, opl›sning | F9: =VLOOKUP($A9,'lms01'!$1:$1048576,10,FALSE) -> 5.000 IE/ml | G9: =VLOOKUP($A9,'lms01'!$1:$1048576,15,FALSE) -> B01AB01 | H9: =VLOOKUP($G9,'lms12'!$A:$B,2,FALSE) -> Heparin | I9: =VLOOKUP($A9,'lms01'!$1:$1048576,16,FALSE) -> IV | J9: =VLOOKUP($A9,'lms01'!$1:$1048576,24,FALSE) -> 0
A10: 28100052255 | B10: Terramycin-Polymyxin B | C10: påsmøring | D10: påsmøringer | E10: =VLOOKUP($A10,'lms01'!$1:$1048576,7,FALSE) -> salve | F10: =VLOOKUP($A10,'lms01'!$1:$1048576,10,FALSE) -> 30+1 mg/g | G10: =VLOOKUP($A10,'lms01'!$1:$1048576,15,FALSE) -> D06AA03 | H10: =VLOOKUP($G10,'lms12'!$A:$B,2,FALSE) -> Oxytetracyclin | I10: =VLOOKUP($A10,'lms01'!$1:$1048576,16,FALSE) -> KU | J10: =VLOOKUP($A10,'lms01'!$1:$1048576,24,FALSE) -> 0
A11: 28100074555 | B11: Paraghurt | C11: tablet | D11: tabletter | E11: =VLOOKUP($A11,'lms01'!$1:$1048576,7,FALSE) -> tabletter | F11: =VLOOKUP($A11,'lms01'!$1:$1048576,10,FALSE) -> 0 | G11: =VLOOKUP($A11,'lms01'!$1:$1048576,15,FALSE) -> A07FA01 | H11: =VLOOKUP($G11,'lms12'!$A:$B,2,FALSE) -> M‘lkesyreproducerende organismer | I11: =VLOOKUP($A11,'lms01'!$1:$1048576,16,FALSE) -> OR | J11: =VLOOKUP($A11,'lms01'!$1:$1048576,24,FALSE) -> 0
A12: 28100076255 | B12: Aspirin | C12: tablet | D12: tabletter | E12: =VLOOKUP($A12,'lms01'!$1:$1048576,7,FALSE) -> #N/A | F12: =VLOOKUP($A12,'lms01'!$1:$1048576,10,FALSE) -> #N/A | G12: =VLOOKUP($A12,'lms01'!$1:$1048576,15,FALSE) -> #N/A | H12: =VLOOKUP($G12,'lms12'!$A:$B,2,FALSE) -> #N/A | I12: =VLOOKUP($A12,'lms01'!$1:$1048576,16,FALSE) -> #N/A | J12: =VLOOKUP($A12,'lms01'!$1:$1048576,24,FALSE) -> #N/A
A13: 28100096555 | B13: Neo-mercazole | C13: tablet | D13: tabletter | E13: =VLOOKUP($A13,'lms01'!$1:$1048576,7,FALSE) -> overtrukne tabletter | F13: =VLOOKUP($A13,'lms01'!$1:$1048576,10,FALSE) -> 5 mg | G13: =VLOOKUP($A13,'lms01'!$1:$1048576,15,FALSE) -> H03BB01 | H13: =VLOOKUP($G13,'lms12'!$A:$B,2,FALSE) -> Carbimazol | I13: =VLOOKUP($A13,'lms01'!$1:$1048576,16,FALSE) -> OR | J13: =VLOOKUP($A13,'lms01'!$1:$1048576,24,FALSE) -> 0
... A11076: 52620027995 | B11076: APOVIT Folsyre stærk | C11076: tablet | D11076: tabletter | E11076: =VLOOKUP($A11076,'lms01'!$1:$1048576,7,FALSE) -> #N/A | F11076: =VLOOKUP($A11076,'lms01'!$1:$1048576,10,FALSE) -> #N/A | G11076: =VLOOKUP($A11076,'lms01'!$1:$1048576,15,FALSE) -> #N/A | H11076: =VLOOKUP($G11076,'lms12'!$A:$B,2,FALSE) -> #N/A | I11076: =VLOOKUP($A11076,'lms01'!$1:$1048576,16,FALSE) -> #N/A | J11076: =VLOOKUP($A11076,'lms01'!$1:$1048576,24,FALSE) -> #N/A

Sheet Added
A1: DrugID | B1: DrugName | C1: textSingular | D1: textPlural | E1: Lægemiddelform (lms01, felt 7) | F1: Styrke (lms01, felt 10) | G1: ATC (lms01, felt 15) | H1: ATC tekst (lms12, felt 6 (modificeret til kolonne B)) | I1: Administrationsvej (lms01, felt 16) | J1: Afregistreringsdato (lms01, felt 24)
A2: 28100123253 | B2: Marcoumar | C2: tablet | D2: tabletter | E2: =VLOOKUP($A2,'lms01'!$1:$1048576,7,FALSE) -> #N/A | F2: =VLOOKUP($A2,'lms01'!$1:$1048576,10,FALSE) -> #N/A | G2: =VLOOKUP($A2,'lms01'!$1:$1048576,15,FALSE) -> #N/A | H2: =VLOOKUP($G2,'lms12'!$A:$B,2,FALSE) -> #N/A | I2: =VLOOKUP($A2,'lms01'!$1:$1048576,16,FALSE) -> #N/A | J2: =VLOOKUP($A2,'lms01'!$1:$1048576,24,FALSE) -> #N/A
A3: 28100123355 | B3: Mestinon | C3: tablet | D3: tabletter | E3: =VLOOKUP($A3,'lms01'!$1:$1048576,7,FALSE) -> #N/A | F3: =VLOOKUP($A3,'lms01'!$1:$1048576,10,FALSE) -> #N/A | G3: =VLOOKUP($A3,'lms01'!$1:$1048576,15,FALSE) -> #N/A | H3: =VLOOKUP($G3,'lms12'!$A:$B,2,FALSE) -> #N/A | I3: =VLOOKUP($A3,'lms01'!$1:$1048576,16,FALSE) -> #N/A | J3: =VLOOKUP($A3,'lms01'!$1:$1048576,24,FALSE) -> #N/A
A4: 28100157755 | B4: Abboticin | C4: tablet | D4: tabletter | E4: =VLOOKUP($A4,'lms01'!$1:$1048576,7,FALSE) -> #N/A | F4: =VLOOKUP($A4,'lms01'!$1:$1048576,10,FALSE) -> #N/A | G4: =VLOOKUP($A4,'lms01'!$1:$1048576,15,FALSE) -> #N/A | H4: =VLOOKUP($G4,'lms12'!$A:$B,2,FALSE) -> #N/A | I4: =VLOOKUP($A4,'lms01'!$1:$1048576,16,FALSE) -> #N/A | J4: =VLOOKUP($A4,'lms01'!$1:$1048576,24,FALSE) -> #N/A
A5: 28100375161 | B5: Ercoquin | C5: tablet | D5: tabletter | E5: =VLOOKUP($A5,'lms01'!$1:$1048576,7,FALSE) -> #N/A | F5: =VLOOKUP($A5,'lms01'!$1:$1048576,10,FALSE) -> #N/A | G5: =VLOOKUP($A5,'lms01'!$1:$1048576,15,FALSE) -> #N/A | H5: =VLOOKUP($G5,'lms12'!$A:$B,2,FALSE) -> #N/A | I5: =VLOOKUP($A5,'lms01'!$1:$1048576,16,FALSE) -> #N/A | J5: =VLOOKUP($A5,'lms01'!$1:$1048576,24,FALSE) -> #N/A
A6: 28100561269 | B6: Sinquan | C6: kapsel | D6: kapsler | E6: =VLOOKUP($A6,'lms01'!$1:$1048576,7,FALSE) -> #N/A | F6: =VLOOKUP($A6,'lms01'!$1:$1048576,10,FALSE) -> #N/A | G6: =VLOOKUP($A6,'lms01'!$1:$1048576,15,FALSE) -> #N/A | H6: =VLOOKUP($G6,'lms12'!$A:$B,2,FALSE) -> #N/A | I6: =VLOOKUP($A6,'lms01'!$1:$1048576,16,FALSE) -> #N/A | J6: =VLOOKUP($A6,'lms01'!$1:$1048576,24,FALSE) -> #N/A
A7: 28100613872 | B7: Semap | C7: tablet | D7: tabletter | E7: =VLOOKUP($A7,'lms01'!$1:$1048576,7,FALSE) -> #N/A | F7: =VLOOKUP($A7,'lms01'!$1:$1048576,10,FALSE) -> #N/A | G7: =VLOOKUP($A7,'lms01'!$1:$1048576,15,FALSE) -> #N/A | H7: =VLOOKUP($G7,'lms12'!$A:$B,2,FALSE) -> #N/A | I7: =VLOOKUP($A7,'lms01'!$1:$1048576,16,FALSE) -> #N/A | J7: =VLOOKUP($A7,'lms01'!$1:$1048576,24,FALSE) -> #N/A
A8: 28100619272 | B8: Fluanxol | C8: tablet | D8: tabletter | E8: =VLOOKUP($A8,'lms01'!$1:$1048576,7,FALSE) -> #N/A | F8: =VLOOKUP($A8,'lms01'!$1:$1048576,10,FALSE) -> #N/A | G8: =VLOOKUP($A8,'lms01'!$1:$1048576,15,FALSE) -> #N/A | H8: =VLOOKUP($G8,'lms12'!$A:$B,2,FALSE) -> #N/A | I8: =VLOOKUP($A8,'lms01'!$1:$1048576,16,FALSE) -> #N/A | J8: =VLOOKUP($A8,'lms01'!$1:$1048576,24,FALSE) -> #N/A
A9: 28100656574 | B9: Diural | C9: tablet | D9: tabletter | E9: =VLOOKUP($A9,'lms01'!$1:$1048576,7,FALSE) -> #N/A | F9: =VLOOKUP($A9,'lms01'!$1:$1048576,10,FALSE) -> #N/A | G9: =VLOOKUP($A9,'lms01'!$1:$1048576,15,FALSE) -> #N/A | H9: =VLOOKUP($G9,'lms12'!$A:$B,2,FALSE) -> #N/A | I9: =VLOOKUP($A9,'lms01'!$1:$1048576,16,FALSE) -> #N/A | J9: =VLOOKUP($A9,'lms01'!$1:$1048576,24,FALSE) -> #N/A
A10: 28100671875 | B10: Bisolvon | C10: tablet | D10: tabletter | E10: =VLOOKUP($A10,'lms01'!$1:$1048576,7,FALSE) -> #N/A | F10: =VLOOKUP($A10,'lms01'!$1:$1048576,10,FALSE) -> #N/A | G10: =VLOOKUP($A10,'lms01'!$1:$1048576,15,FALSE) -> #N/A | H10: =VLOOKUP($G10,'lms12'!$A:$B,2,FALSE) -> #N/A | I10: =VLOOKUP($A10,'lms01'!$1:$1048576,16,FALSE) -> #N/A | J10: =VLOOKUP($A10,'lms01'!$1:$1048576,24,FALSE) -> #N/A
A11: 28100673175 | B11: Parlodel | C11: tablet | D11: tabletter | E11: =VLOOKUP($A11,'lms01'!$1:$1048576,7,FALSE) -> #N/A | F11: =VLOOKUP($A11,'lms01'!$1:$1048576,10,FALSE) -> #N/A | G11: =VLOOKUP($A11,'lms01'!$1:$1048576,15,FALSE) -> #N/A | H11: =VLOOKUP($G11,'lms12'!$A:$B,2,FALSE) -> #N/A | I11: =VLOOKUP($A11,'lms01'!$1:$1048576,16,FALSE) -> #N/A | J11: =VLOOKUP($A11,'lms01'!$1:$1048576,24,FALSE) -> #N/A
A12: 28100700476 | B12: A-vitamin "Medic" | C12: tablet | D12: tabletter | E12: =VLOOKUP($A12,'lms01'!$1:$1048576,7,FALSE) -> #N/A | F12: =VLOOKUP($A12,'lms01'!$1:$1048576,10,FALSE) -> #N/A | G12: =VLOOKUP($A12,'lms01'!$1:$1048576,15,FALSE) -> #N/A | H12: =VLOOKUP($G12,'lms12'!$A:$B,2,FALSE) -> #N/A | I12: =VLOOKUP($A12,'lms01'!$1:$1048576,16,FALSE) -> #N/A | J12: =VLOOKUP($A12,'lms01'!$1:$1048576,24,FALSE) -> #N/A
A13: 28100742176 | B13: Papaverin "OBA" | C13: tablet | D13: tabletter | E13: =VLOOKUP($A13,'lms01'!$1:$1048576,7,FALSE) -> #N/A | F13: =VLOOKUP($A13,'lms01'!$1:$1048576,10,FALSE) -> #N/A | G13: =VLOOKUP($A13,'lms01'!$1:$1048576,15,FALSE) -> #N/A | H13: =VLOOKUP($G13,'lms12'!$A:$B,2,FALSE) -> #N/A | I13: =VLOOKUP($A13,'lms01'!$1:$1048576,16,FALSE) -> #N/A | J13: =VLOOKUP($A13,'lms01'!$1:$1048576,24,FALSE) -> #N/A
... A3970: 28106927117 | B3970: Elebrato Ellipta | C3970: sug | D3970: sug | E3970: =VLOOKUP($A3970,'lms01'!$1:$1048576,7,FALSE) -> #N/A | F3970: =VLOOKUP($A3970,'lms01'!$1:$1048576,10,FALSE) -> #N/A | G3970: =VLOOKUP($A3970,'lms01'!$1:$1048576,15,FALSE) -> #N/A | H3970: =VLOOKUP($G3970,'lms12'!$A:$B,2,FALSE) -> #N/A | I3970: =VLOOKUP($A3970,'lms01'!$1:$1048576,16,FALSE) -> #N/A | J3970: =VLOOKUP($A3970,'lms01'!$1:$1048576,24,FALSE) -> #N/A

Sheet Removed
A1: DrugID | B1: DrugName | C1: textSingular | D1: textPlural | E1: Lægemiddelform (lms01, felt 7) | F1: Styrke (lms01, felt 10) | G1: ATC (lms01, felt 15) | H1: ATC tekst (lms12, felt 6 (modificeret til kolonne B)) | I1: Administrationsvej (lms01, felt 16) | J1: Afregistreringsdato (lms01, felt 24)
A2: 28100600471 | B2: Saroten Retard | C2: kapsel | D2: kapsler | E2: =VLOOKUP($A2,'lms01'!$1:$1048576,7,FALSE) -> #N/A | F2: =VLOOKUP($A2,'lms01'!$1:$1048576,10,FALSE) -> #N/A | G2: =VLOOKUP($A2,'lms01'!$1:$1048576,15,FALSE) -> #N/A | H2: =VLOOKUP($G2,'lms12'!$A:$B,2,FALSE) -> #N/A | I2: =VLOOKUP($A2,'lms01'!$1:$1048576,16,FALSE) -> #N/A | J2: =VLOOKUP($A2,'lms01'!$1:$1048576,24,FALSE) -> #N/A
A3: 28100690976 | B3: Tenormin | C3: tablet | D3: tabletter | E3: =VLOOKUP($A3,'lms01'!$1:$1048576,7,FALSE) -> #N/A | F3: =VLOOKUP($A3,'lms01'!$1:$1048576,10,FALSE) -> #N/A | G3: =VLOOKUP($A3,'lms01'!$1:$1048576,15,FALSE) -> #N/A | H3: =VLOOKUP($G3,'lms12'!$A:$B,2,FALSE) -> #N/A | I3: =VLOOKUP($A3,'lms01'!$1:$1048576,16,FALSE) -> #N/A | J3: =VLOOKUP($A3,'lms01'!$1:$1048576,24,FALSE) -> #N/A
A4: 28100691076 | B4: Tenormin | C4: tablet | D4: tabletter | E4: =VLOOKUP($A4,'lms01'!$1:$1048576,7,FALSE) -> #N/A | F4: =VLOOKUP($A4,'lms01'!$1:$1048576,10,FALSE) -> #N/A | G4: =VLOOKUP($A4,'lms01'!$1:$1048576,15,FALSE) -> #N/A | H4: =VLOOKUP($G4,'lms12'!$A:$B,2,FALSE) -> #N/A | I4: =VLOOKUP($A4,'lms01'!$1:$1048576,16,FALSE) -> #N/A | J4: =VLOOKUP($A4,'lms01'!$1:$1048576,24,FALSE) -> #N/A
A5: 28100993978 | B5: Lasix Retard | C5: kapsel | D5: kapsler | E5: =VLOOKUP($A5,'lms01'!$1:$1048576,7,FALSE) -> #N/A | F5: =VLOOKUP($A5,'lms01'!$1:$1048576,10,FALSE) -> #N/A | G5: =VLOOKUP($A5,'lms01'!$1:$1048576,15,FALSE) -> #N/A | H5: =VLOOKUP($G5,'lms12'!$A:$B,2,FALSE) -> #N/A | I5: =VLOOKUP($A5,'lms01'!$1:$1048576,16,FALSE) -> #N/A | J5: =VLOOKUP($A5,'lms01'!$1:$1048576,24,FALSE) -> #N/A
A6: 28100994978 | B6: Emperal | C6: tablet | D6: tabletter | E6: =VLOOKUP($A6,'lms01'!$1:$1048576,7,FALSE) -> #N/A | F6: =VLOOKUP($A6,'lms01'!$1:$1048576,10,FALSE) -> #N/A | G6: =VLOOKUP($A6,'lms01'!$1:$1048576,15,FALSE) -> #N/A | H6: =VLOOKUP($G6,'lms12'!$A:$B,2,FALSE) -> #N/A | I6: =VLOOKUP($A6,'lms01'!$1:$1048576,16,FALSE) -> #N/A | J6: =VLOOKUP($A6,'lms01'!$1:$1048576,24,FALSE) -> #N/A
A7: 28101011571 | B7: Saroten Retard | C7: kapsel | D7: kapsler | E7: =VLOOKUP($A7,'lms01'!$1:$1048576,7,FALSE) -> #N/A | F7: =VLOOKUP($A7,'lms01'!$1:$1048576,10,FALSE) -> #N/A | G7: =VLOOKUP($A7,'lms01'!$1:$1048576,15,FALSE) -> #N/A | H7: =VLOOKUP($G7,'lms12'!$A:$B,2,FALSE) -> #N/A | I7: =VLOOKUP($A7,'lms01'!$1:$1048576,16,FALSE) -> #N/A | J7: =VLOOKUP($A7,'lms01'!$1:$1048576,24,FALSE) -> #N/A
A8: 28101145783 | B8: Adalat | C8: tablet | D8: tabletter | E8: =VLOOKUP($A8,'lms01'!$1:$1048576,7,FALSE) -> #N/A | F8: =VLOOKUP($A8,'lms01'!$1:$1048576,10,FALSE) -> #N/A | G8: =VLOOKUP($A8,'lms01'!$1:$1048576,15,FALSE) -> #N/A | H8: =VLOOKUP($G8,'lms12'!$A:$B,2,FALSE) -> #N/A | I8: =VLOOKUP($A8,'lms01'!$1:$1048576,16,FALSE) -> #N/A | J8: =VLOOKUP($A8,'lms01'!$1:$1048576,24,FALSE) -> #N/A
A9: 28101228685 | B9: Adalat | C9: tablet | D9: tabletter | E9: =VLOOKUP($A9,'lms01'!$1:$1048576,7,FALSE) -> #N/A | F9: =VLOOKUP($A9,'lms01'!$1:$1048576,10,FALSE) -> #N/A | G9: =VLOOKUP($A9,'lms01'!$1:$1048576,15,FALSE) -> #N/A | H9: =VLOOKUP($G9,'lms12'!$A:$B,2,FALSE) -> #N/A | I9: =VLOOKUP($A9,'lms01'!$1:$1048576,16,FALSE) -> #N/A | J9: =VLOOKUP($A9,'lms01'!$1:$1048576,24,FALSE) -> #N/A
A10: 28101267686 | B10: Humulin NPH | C10: IE | D10: IE | E10: =VLOOKUP($A10,'lms01'!$1:$1048576,7,FALSE) -> #N/A | F10: =VLOOKUP($A10,'lms01'!$1:$1048576,10,FALSE) -> #N/A | G10: =VLOOKUP($A10,'lms01'!$1:$1048576,15,FALSE) -> #N/A | H10: =VLOOKUP($G10,'lms12'!$A:$B,2,FALSE) -> #N/A | I10: =VLOOKUP($A10,'lms01'!$1:$1048576,16,FALSE) -> #N/A | J10: =VLOOKUP($A10,'lms01'!$1:$1048576,24,FALSE) -> #N/A
A11: 28101320687 | B11: Ibumetin Retard | C11: tablet | D11: tabletter | E11: =VLOOKUP($A11,'lms01'!$1:$1048576,7,FALSE) -> #N/A | F11: =VLOOKUP($A11,'lms01'!$1:$1048576,10,FALSE) -> #N/A | G11: =VLOOKUP($A11,'lms01'!$1:$1048576,15,FALSE) -> #N/A | H11: =VLOOKUP($G11,'lms12'!$A:$B,2,FALSE) -> #N/A | I11: =VLOOKUP($A11,'lms01'!$1:$1048576,16,FALSE) -> #N/A | J11: =VLOOKUP($A11,'lms01'!$1:$1048576,24,FALSE) -> #N/A
A12: 28101333788 | B12: Nizoral | C12: vask | D12: vaske | E12: =VLOOKUP($A12,'lms01'!$1:$1048576,7,FALSE) -> shampoo | F12: =VLOOKUP($A12,'lms01'!$1:$1048576,10,FALSE) -> 0.02 | G12: =VLOOKUP($A12,'lms01'!$1:$1048576,15,FALSE) -> D01AC08 | H12: =VLOOKUP($G12,'lms12'!$A:$B,2,FALSE) -> Ketoconazol | I12: =VLOOKUP($A12,'lms01'!$1:$1048576,16,FALSE) -> KU | J12: =VLOOKUP($A12,'lms01'!$1:$1048576,24,FALSE) -> 0
A13: 28101337988 | B13: Tenormin | C13: tablet | D13: tabletter | E13: =VLOOKUP($A13,'lms01'!$1:$1048576,7,FALSE) -> #N/A | F13: =VLOOKUP($A13,'lms01'!$1:$1048576,10,FALSE) -> #N/A | G13: =VLOOKUP($A13,'lms01'!$1:$1048576,15,FALSE) -> #N/A | H13: =VLOOKUP($G13,'lms12'!$A:$B,2,FALSE) -> #N/A | I13: =VLOOKUP($A13,'lms01'!$1:$1048576,16,FALSE) -> #N/A | J13: =VLOOKUP($A13,'lms01'!$1:$1048576,24,FALSE) -> #N/A
... A233: 28105801216 | B233: Visacor | C233: tablet | D233: tabletter | E233: =VLOOKUP($A233,'lms01'!$1:$1048576,7,FALSE) -> #N/A | F233: =VLOOKUP($A233,'lms01'!$1:$1048576,10,FALSE) -> #N/A | G233: =VLOOKUP($A233,'lms01'!$1:$1048576,15,FALSE) -> #N/A | H233: =VLOOKUP($G233,'lms12'!$A:$B,2,FALSE) -> #N/A | I233: =VLOOKUP($A233,'lms01'!$1:$1048576,16,FALSE) -> #N/A | J233: =VLOOKUP($A233,'lms01'!$1:$1048576,24,FALSE) -> #N/A

Sheet Changed
A1: DrugID | B1: DrugName | C1: textSingular | D1: textPlural | E1: Lægemiddelform (lms01, felt 7) | F1: Styrke (lms01, felt 10) | G1: ATC (lms01, felt 15) | H1: ATC tekst (lms12, felt 6 (modificeret til kolonne B)) | I1: Administrationsvej (lms01, felt 16) | J1: Afregistreringsdato (lms01, felt 24)
A2: 28103182600 | B2: Engerix-B 20 mikrogram/1 ml | C2: dosis | D2: doser | E2: =VLOOKUP($A2,'lms01'!$1:$1048576,7,FALSE) -> inj.vsk,susp,spr›jte | F2: =VLOOKUP($A2,'lms01'!$1:$1048576,10,FALSE) -> 20 mikrogram/ml | G2: =VLOOKUP($A2,'lms01'!$1:$1048576,15,FALSE) -> J07BC01 | H2: =VLOOKUP($G2,'lms12'!$A:$B,2,FALSE) -> Hepatitis b, renset antigen | I2: =VLOOKUP($A2,'lms01'!$1:$1048576,16,FALSE) -> IM | J2: =VLOOKUP($A2,'lms01'!$1:$1048576,24,FALSE) -> 0
A3: 28105794795 | B3: Innohep | C3: injektionssprøjte | D3: injektionssprøjter | E3: =VLOOKUP($A3,'lms01'!$1:$1048576,7,FALSE) -> inj.vsk,opl.,spr›jte | F3: =VLOOKUP($A3,'lms01'!$1:$1048576,10,FALSE) -> 8.000 anti-Xa IE | G3: =VLOOKUP($A3,'lms01'!$1:$1048576,15,FALSE) -> B01AB10 | H3: =VLOOKUP($G3,'lms12'!$A:$B,2,FALSE) -> Tinzaparin | I3: =VLOOKUP($A3,'lms01'!$1:$1048576,16,FALSE) -> SC | J3: =VLOOKUP($A3,'lms01'!$1:$1048576,24,FALSE) -> 0
A4: 28105794895 | B4: Innohep | C4: injektionssprøjte | D4: injektionssprøjter | E4: =VLOOKUP($A4,'lms01'!$1:$1048576,7,FALSE) -> inj.vsk,opl.,spr›jte | F4: =VLOOKUP($A4,'lms01'!$1:$1048576,10,FALSE) -> 10.000 anti-Xa IE | G4: =VLOOKUP($A4,'lms01'!$1:$1048576,15,FALSE) -> B01AB10 | H4: =VLOOKUP($G4,'lms12'!$A:$B,2,FALSE) -> Tinzaparin | I4: =VLOOKUP($A4,'lms01'!$1:$1048576,16,FALSE) -> SC | J4: =VLOOKUP($A4,'lms01'!$1:$1048576,24,FALSE) -> 0
A5: 28105794995 | B5: Innohep | C5: injektionssprøjte | D5: injektionssprøjter | E5: =VLOOKUP($A5,'lms01'!$1:$1048576,7,FALSE) -> inj.vsk,opl.,spr›jte | F5: =VLOOKUP($A5,'lms01'!$1:$1048576,10,FALSE) -> 12.000 anti-Xa IE | G5: =VLOOKUP($A5,'lms01'!$1:$1048576,15,FALSE) -> B01AB10 | H5: =VLOOKUP($G5,'lms12'!$A:$B,2,FALSE) -> Tinzaparin | I5: =VLOOKUP($A5,'lms01'!$1:$1048576,16,FALSE) -> SC | J5: =VLOOKUP($A5,'lms01'!$1:$1048576,24,FALSE) -> 0
A6: 28105795095 | B6: Innohep | C6: injektionssprøjte | D6: injektionssprøjter | E6: =VLOOKUP($A6,'lms01'!$1:$1048576,7,FALSE) -> inj.vsk,opl.,spr›jte | F6: =VLOOKUP($A6,'lms01'!$1:$1048576,10,FALSE) -> 14.000 anti-Xa IE | G6: =VLOOKUP($A6,'lms01'!$1:$1048576,15,FALSE) -> B01AB10 | H6: =VLOOKUP($G6,'lms12'!$A:$B,2,FALSE) -> Tinzaparin | I6: =VLOOKUP($A6,'lms01'!$1:$1048576,16,FALSE) -> SC | J6: =VLOOKUP($A6,'lms01'!$1:$1048576,24,FALSE) -> 0
A7: 28105795195 | B7: Innohep | C7: injektionssprøjte | D7: injektionssprøjter | E7: =VLOOKUP($A7,'lms01'!$1:$1048576,7,FALSE) -> inj.vsk,opl.,spr›jte | F7: =VLOOKUP($A7,'lms01'!$1:$1048576,10,FALSE) -> 16.000 anti-Xa IE | G7: =VLOOKUP($A7,'lms01'!$1:$1048576,15,FALSE) -> B01AB10 | H7: =VLOOKUP($G7,'lms12'!$A:$B,2,FALSE) -> Tinzaparin | I7: =VLOOKUP($A7,'lms01'!$1:$1048576,16,FALSE) -> SC | J7: =VLOOKUP($A7,'lms01'!$1:$1048576,24,FALSE) -> 0
A8: 28105795295 | B8: Innohep | C8: injektionssprøjte | D8: injektionssprøjter | E8: =VLOOKUP($A8,'lms01'!$1:$1048576,7,FALSE) -> inj.vsk,opl.,spr›jte | F8: =VLOOKUP($A8,'lms01'!$1:$1048576,10,FALSE) -> 18.000 anti-Xa IE | G8: =VLOOKUP($A8,'lms01'!$1:$1048576,15,FALSE) -> B01AB10 | H8: =VLOOKUP($G8,'lms12'!$A:$B,2,FALSE) -> Tinzaparin | I8: =VLOOKUP($A8,'lms01'!$1:$1048576,16,FALSE) -> SC | J8: =VLOOKUP($A8,'lms01'!$1:$1048576,24,FALSE) -> 0
A9: 28105795395 | B9: Innohep | C9: injektionssprøjte | D9: injektionssprøjter | E9: =VLOOKUP($A9,'lms01'!$1:$1048576,7,FALSE) -> inj.vsk,opl.,spr›jte | F9: =VLOOKUP($A9,'lms01'!$1:$1048576,10,FALSE) -> 2.500 anti-Xa IE | G9: =VLOOKUP($A9,'lms01'!$1:$1048576,15,FALSE) -> B01AB10 | H9: =VLOOKUP($G9,'lms12'!$A:$B,2,FALSE) -> Tinzaparin | I9: =VLOOKUP($A9,'lms01'!$1:$1048576,16,FALSE) -> SC | J9: =VLOOKUP($A9,'lms01'!$1:$1048576,24,FALSE) -> 0
A10: 28105795495 | B10: Innohep | C10: injektionssprøjte | D10: injektionssprøjter | E10: =VLOOKUP($A10,'lms01'!$1:$1048576,7,FALSE) -> inj.vsk,opl.,spr›jte | F10: =VLOOKUP($A10,'lms01'!$1:$1048576,10,FALSE) -> 3.500 anti-Xa IE | G10: =VLOOKUP($A10,'lms01'!$1:$1048576,15,FALSE) -> B01AB10 | H10: =VLOOKUP($G10,'lms12'!$A:$B,2,FALSE) -> Tinzaparin | I10: =VLOOKUP($A10,'lms01'!$1:$1048576,16,FALSE) -> SC | J10: =VLOOKUP($A10,'lms01'!$1:$1048576,24,FALSE) -> 0
A11: 28105795595 | B11: Innohep | C11: injektionssprøjte | D11: injektionssprøjter | E11: =VLOOKUP($A11,'lms01'!$1:$1048576,7,FALSE) -> inj.vsk,opl.,spr›jte | F11: =VLOOKUP($A11,'lms01'!$1:$1048576,10,FALSE) -> 4.500 anti-Xa IE | G11: =VLOOKUP($A11,'lms01'!$1:$1048576,15,FALSE) -> B01AB10 | H11: =VLOOKUP($G11,'lms12'!$A:$B,2,FALSE) -> Tinzaparin | I11: =VLOOKUP($A11,'lms01'!$1:$1048576,16,FALSE) -> SC | J11: =VLOOKUP($A11,'lms01'!$1:$1048576,24,FALSE) -> 0

Sheet lms01
A1: 01 | B1: 02 | C1: 03 | D1: 04 | E1: 05 | F1: 06 | G1: 07 | H1: 08 | I1: 09 | J1: 10 | K1: 11 | L1: 12 | M1: 13 | N1: 14 | O1: 15 | P1: 16 | Q1: 17 | R1: 18 | S1: 19 | T1: 20 | U1: 21 | V1: 22 | W1: 23 | X1: 24 | Y1: 25
A2: DrugID | B2: Varetype | C2: Varedeltype | D2: Alfabet. sekvensplads | E2: Spec. nummer | F2: Navn | G2: Lægemiddelform, tekst | H2: Form-kode | I2: Kode for yderligere form-oplysn. | J2: Styrke (klar tekst) | K2: Styrke, numerisk | L2: Styrke, enhed | M2: MT-indehaver | N2: Repræsentant (distributør) | O2: ATC | P2: Administrationsvej | Q2: Trafikadvarsel | R2: Substitution | S2: Blank | T2: Blank | U2: Blank | V2: Lægemidlets substitutionsgruppe | W2: Egnet til dosisdispensering | X2: Dato for afregistr. af lægemiddel | Y2: Karantænedato
A3: DrugID | B3: Varetype | C3: Varedeltype | D3: Alfabet. sekvensplads | E3: Spec. nummer | F3: Navn | G3: Produktform, tekst | H3: Form-kode | I3: Kode for yderligere form-oplysn. | J3: Styrke (klar tekst) | K3: Styrke, numerisk | L3: Styrke, enhed | M3: Mellemproduktfremstiller | N3: Mellemproduktfremstiller | O3: ATC | P3: Administrationsvej | Q3: Trafikadvarsel | R3: Substitution | S3: Blank | T3: Blank | U3: Blank | V3: Cannabisproduktets substitutionsgruppe | W3: Egnet til dosisdispensering | X3: Dato for afregistr. af cannabisprodukt | Y3: Karantænedato
A4: 11 | B4: 2 | C4: 2 | D4: 9 | E4: 5 | F4: 30 | G4: 20 | H4: 7 | I4: 7 | J4: 20 | K4: 10 | L4: 3 | M4: 6 | N4: 6 | O4: 8 | P4: 8 | Q4: 1 | R4: 1 | S4: 1 | T4: 1 | U4: 1 | V4: 4 | W4: 1 | X4: 8 | Y4: 8
A5: 1-11 | B5: 12-13 | C5: 14-15 | D5: 16-24 | E5: 25-29 | F5: 30-59 | G5: 60-79 | H5: 80-86 | I5: 87-93 | J5: 94-113 | K5: 114-123 | L5: 124-126 | M5: 127-132 | N5: 133-138 | O5: 139-146 | P5: 147-154 | Q5: 155 | R5: 156 | S5: 157 | T5: 158 | U5: 159 | V5: 160-163 | W5: 164 | X5: 165-172 | Y5: 173-180
B6: Udfyldt med SP (Specialiteter) | C6: Udfyldt med LM (lægemiddel, reg.) eller MC (Cannabisprodukt) | E6: D.sp.nr. (decentrale) - Alm. nr (centrale) | F6: Evt. forkortet | G6: Evt. forkortet | H6: Ref. t. LMS22, felt 01 | I6: Feltet er tomt pt. | L6: Ref. t. LMS15, enhedstype 3 | M6: Ref. t. LMS09 | N6: Ref. t. LMS09 | O6: Ref. t. LMS12 | P6: 4 x 2 kar. (Ref. t. LMS11) | Q6: 2 muligh.: J eller blank | R6: 2 muligh.: G eller blank | V6: Substitutionsgruppenr. på DrugID-niveau | W6: 2 muligh.: D eller blank | X6: Format: ååååmmdd | Y6: Format: ååååmmdd
A7: 28100009555 | B7: SP | C7: LM | D7: KEMADR001 | E7: 65 | F7: Kemadrin | G7: tabletter | H7: TAB | J7: 5 mg | K7: 5000 | L7: MG | M7: 267266 | N7: 272482 | O7: N04AA04 | P7: OR | W7: D
A8: 28100010554 | B8: SP | C8: LM | D8: MARZIN001 | E8: 1348 | F8: Marzine | G8: tabletter | H8: TAB | J8: 50 mg | K8: 50000 | L8: MG | M8: 254766 | N8: 254766 | O8: R06AE03 | P8: OR | Q8: J | R8: G | V8: 7237 | W8: D
A9: 28100020455 | B9: SP | C9: LM | D9: ELTROX002 | E9: 77 | F9: Eltroxin | G9: tabletter | H9: TAB | J9: 100 mikrogram | K9: 100000 | L9: RG | M9: 267266 | N9: 272482 | O9: H03AA01 | P9: OR | R9: G | V9: 7401 | W9: D
A10: 28100021255 | B10: SP | C10: LM | D10: POSTAF001 | E10: 84 | F10: Postafen | G10: tabletter | H10: TAB | J10: 25 mg | K10: 25000 | L10: MG | M10: 271985 | N10: 272731 | O10: R06AE05 | P10: OR | Q10: J | W10: D
A11: 28100041255 | B11: SP | C11: LM | D11: DIAMOX001 | E11: 206 | F11: Diamox | G11: tabletter | H11: TAB | J11: 250 mg | K11: 250000 | L11: MG | M11: 267528 | N11: 255247 | O11: S01EC01 | P11: OR | R11: G | V11: 7801 | W11: D
A12: 28100049355 | B12: SP | C12: LM | D12: HYDROC004 | E12: 299 | F12: Hydrocortison med Terramycin | G12: salve | H12: SALV | J12: 10 + 30 mg/g | K12: 0 | M12: 61800 | N12: 61800 | O12: D07CA01 | P12: KU | R12: G | V12: 7773
A13: 28100049555 | B13: SP | C13: LM | D13: HEPARI003 | E13: 501 | F13: Heparin "Leo" | G13: inj.v‘ske, opl›sning | H13: INJVSKO | J13: 5.000 IE/ml | K13: 5000000 | L13: IUM | M13: 34800 | N13: 34800 | O13: B01AB01 | P13: IV | R13: G | V13: 4032
A14: 28100052255 | B14: SP | C14: LM | D14: TERRAM004 | E14: 71 | F14: Terramycin-Polymyxin B | G14: salve | H14: SALV | J14: 30+1 mg/g | K14: 0 | M14: 61800 | N14: 61800 | O14: D06AA03 | P14: KU
A15: 28100074555 | B15: SP | C15: LM | D15: PARAGH001 | E15: 690 | F15: Paraghurt | G15: tabletter | H15: TAB | K15: 0 | M15: 258171 | N15: 272406 | O15: A07FA01 | P15: OR | W15: D
A16: 28100096555 | B16: SP | C16: LM | D16: NEO-ME001 | E16: 864 | F16: Neo-mercazole | G16: overtrukne tabletter | H16: TABOTR | J16: 5 mg | K16: 5000 | L16: MG | M16: 255247 | N16: 255247 | O16: H03BB01 | P16: OR | W16: D
A17: 28100103155 | B17: SP | C17: LM | D17: HIRUDO002 | E17: 920 | F17: Hirudoid | G17: salve | H17: SALV | J17: 3 mg/g | K17: 3000 | L17: MGG | M17: 147100 | N17: 250000 | O17: C05BA01 | P17: KU
A18: 28100105055 | B18: SP | C18: LM | D18: INOTYO001 | E18: 892 | F18: Inotyol | G18: salve | H18: SALV | K18: 0 | M18: 268602 | N18: 268602 | O18: D05AA | P18: KU
A19: 28100107155 | B19: SP | C19: LM | D19: BENYLA002 | E19: 958 | F19: Benylan | G19: oral opl›sning | H19: ORALOPL | J19: 2,8 mg/ml | K19: 2800 | L19: MGM | M19: 258318 | N19: 258318 | O19: R06AA02 | P19: OR | Q19: J
A20: 28100110949 | B20: SP | C20: LM | D20: XYLOCA002 | E20: 985 | F20: Xylocain | G20: inj.v‘ske, opl›sning | H20: INJVSKO | J20: 10 mg/ml | K20: 10000 | L20: MGM | M20: 267589 | N20: 272482 | O20: N01BB02 | P20: EDIRIVPE
A21: 28100111155 | B21: SP | C21: LM | D21: XYLOCA007 | E21: 986 | F21: Xylocain-adrenalin | G21: inj.v‘ske, opl›sning | H21: INJVSKO | J21: 10 mg/ml+5 mikrog/ml | K21: 0 | M21: 267589 | N21: 272482 | O21: N01BB52 | P21: EDIRPE | R21: G | V21: 7567
A22: 28100115155 | B22: SP | C22: LM | D22: VETALG001 | E22: 104 | F22: Vetalgin Vet. | G22: inj.v‘ske, opl›sning | H22: INJVSKO | J22: 500 mg/ml | K22: 500000 | L22: MGM | M22: 31500 | N22: 271482 | O22: QN02BB02 | P22: IV
A23: 28100122055 | B23: SP | C23: LM | D23: BUSCOP002 | E23: 1074 | F23: Buscopan | G23: overtrukne tabletter | H23: TABOTR | J23: 10 mg | K23: 10000 | L23: MG | M23: 257842 | N23: 257842 | O23: A03BB01 | P23: OR | R23: G | V23: 7518 | W23: D
A24: 28100137555 | B24: SP | C24: LM | D24: SALAZO001 | E24: 1190 | F24: Salazopyrin | G24: tabletter | H24: TAB | J24: 500 mg | K24: 500000 | L24: MG | M24: 61800 | N24: 61800 | O24: A07EC01 | P24: OR | R24: G | V24: 505 | W24: D
A25: 28100142255 | B25: SP | C25: LM | D25: PHENER001 | E25: 1215 | F25: Phenergan | G25: oral opl›sning | H25: ORALOPL | J25: 1 mg/ml | K25: 1000 | L25: MGM | M25: 257228 | N25: 257228 | O25: R06AD02 | P25: OR | Q25: J | R25: G | V25: 7211
A26: 28100161255 | B26: SP | C26: LM | D26: KONAKI001 | E26: 1088 | F26: Konakion Novum | G26: inj.v‘ske, opl›sning | H26: INJVSKO | J26: 10 mg/ml | K26: 10000 | L26: MGM | M26: 62700 | N26: 62700 | O26: B02BA01 | P26: IMIVOR | R26: G | V26: 7714
A27: 28100165055 | B27: SP | C27: LM | D27: SOLU-C001 | E27: 1328 | F27: Solu-cortef | G27: pulv.og sol.t.inj.op | H27: INJPSO | J27: 100 mg | K27: 100000 | L27: MG | M27: 61800 | N27: 61800 | O27: H02AB09 | P27: IMIV | R27: G | V27: 7574
A28: 28100165654 | B28: SP | C28: LM | D28: HIBITA001 | E28: 1630 | F28: Hibitane | G28: vaginalcreme | H28: VAGCREM | J28: 0.01 | K28: 1000 | L28: PC | M28: 11231 | N28: 11231 | O28: D08AC02 | P28: VA
A29: 28100187056 | B29: SP | C29: LM | D29: RITALI001 | E29: 1408 | F29: Ritalin | G29: tabletter | H29: TAB | J29: 10 mg | K29: 10000 | L29: MG | M29: 265285 | N29: 265285 | O29: N06BA04 | P29: OR | Q29: J | R29: G | V29: 975 | W29: D
A30: 28100193656 | B30: SP | C30: LM | D30: STREPT002 | E30: 1398 | F30: Streptocillin Vet. | G30: inj.v‘ske,suspension | H30: INJVSKS | J30: 200000 IE +250 mg/ml | K30: 0 | M30: 274106 | N30: 274106 | O30: QJ01RA01 | P30: IM
A31: 28100223956 | B31: SP | C31: LM | D31: DIHYDR001 | E31: 258 | F31: Dihydrostreptomycin Agrov. Vet | G31: tabletter | H31: TAB | J31: 500 mg | K31: 500000 | L31: MG | M31: 274106 | N31: 274106 | O31: QA07AA90 | P31: OR
A32: 28100230857 | B32: SP | C32: LM | D32: ULTRAC001 | E32: 1646 | F32: Ultracortenol | G32: ›jensalve | H32: OJSALV | J32: 0.005 | K32: 500 | L32: PC | M32: 268597 | N32: 268597 | O32: S01BA04 | P32: CO
A33: 28100231857 | B33: SP | C33: LM | D33: AKINET002 | E33: 1659 | F33: Akineton | G33: tabletter | H33: TAB | J33: 2 mg | K33: 2000 | L33: MG | M33: 255906 | N33: 255906 | O33: N04AA02 | P33: OR | R33: G | V33: 7754 | W33: D
A34: 28100232757 | B34: SP | C34: LM | D34: DULCOL001 | E34: 1603 | F34: Dulcolax | G34: enterotabletter | H34: ENTTAB | J34: 5 mg | K34: 5000 | L34: MG | M34: 257842 | N34: 257842 | O34: A06AB02 | P34: OR | W34: D
A35: 28100234057 | B35: SP | C35: LM | D35: STEMET001 | E35: 1717 | F35: Stemetil | G35: tabletter | H35: TAB | J35: 5 mg | K35: 5000 | L35: MG | M35: 257228 | N35: 257228 | O35: N05AB04 | P35: OR | W35: D
A36: 28100245657 | B36: SP | C36: LM | D36: SYNTOC001 | E36: 1709 | F36: Syntocinon | G36: inj.v‘ske, opl›sning | H36: INJVSKO | J36: 10 IE/ml | K36: 10000 | L36: IUM | M36: 273116 | N36: 271932 | O36: H01BB02 | P36: IMIV | R36: G | V36: 7091
A37: 28100245757 | B37: SP | C37: LM | D37: MEDROL001 | E37: 1708 | F37: Medrol | G37: tabletter | H37: TAB | J37: 4 mg | K37: 4000 | L37: MG | M37: 61800 | N37: 61800 | O37: H02AB04 | P37: OR | R37: G | V37: 2093 | W37: D
A38: 28100249157 | B38: SP | C38: LM | D38: AKINET001 | E38: 1659 | F38: Akineton | G38: inj.v‘ske, opl›sning | H38: INJVSKO | J38: 5 mg/ml | K38: 5000 | L38: MGM | M38: 255906 | N38: 255906 | O38: N04AA02 | P38: IMIV
A39: 28100257658 | B39: SP | C39: LM | D39: PLEGIC001 | E39: 1750 | F39: Plegicil Vet. | G39: inj.v‘ske, opl›sning | H39: INJVSKO | J39: 10 mg/ml | K39: 10000 | L39: MGM | M39: 254979 | N39: 260458 | O39: QN05AA04 | P39: IMIV
A40: 28100259658 | B40: SP | C40: LM | D40: PLAQUE001 | E40: 1756 | F40: Plaquenil | G40: filmovertrukne tabl. | H40: TABFILM | J40: 200 mg | K40: 200000 | L40: MG | M40: 257228 | N40: 257228 | O40: P01BA02 | P40: OR | R40: G | V40: 2537 | W40: D
A41: 28100270558 | B41: SP | C41: LM | D41: SENDOX004 | E41: 1785 | F41: Sendoxan | G41: overtrukne tabletter | H41: TABOTR | J41: 50 mg | K41: 50000 | L41: MG | M41: 268850 | N41: 268850 | O41: L01AA01 | P41: OR
A42: 28100280558 | B42: SP | C42: LM | D42: NOACID001 | E42: 1828 | F42: Noacid | G42: tabletter | H42: TAB | J42: 400 mg | K42: 400000 | L42: MG | M42: 269792 | N42: 269792 | O42: A02AB04 | P42: OR | W42: D
A43: 28100286458 | B43: SP | C43: LM | D43: TERRAM003 | E43: 71 | F43: Terramycin-Polymyxin B | G43: ›jensalve | H43: OJSALV | J43: 5 + 1 mg/g | K43: 0 | M43: 61800 | N43: 61800 | O43: S01AA30 | P43: CO | R43: G | V43: 7317
A44: 28100289759 | B44: SP | C44: LM | D44: ANTABU002 | E44: 599 | F44: Antabus | G44: brusetabletter | H44: BRUTAB | J44: 400 mg | K44: 400000 | L44: MG | M44: 258171 | N44: 272406 | O44: N07BB01 | P44: OR | R44: G | V44: 7223
A45: 28100290359 | B45: SP | C45: LM | D45: STREPT001 | E45: 1831 | F45: Streptipenprokain Rosco Vet. | G45: inj.v‘ske,suspension | H45: INJVSKS | J45: 200 mg/ml +335 mg/ml | K45: 0 | M45: 262669 | N45: 262669 | O45: QJ01RA01 | P45: IM
A46: 28100304259 | B46: SP | C46: LM | D46: SERENA002 | E46: 1907 | F46: Serenase | G46: oral opl›sning | H46: ORALOPL | J46: 2 mg/ml | K46: 2000 | L46: MGM | M46: 268816 | N46: 268816 | O46: N05AD01 | P46: OR
A47: 28100312259 | B47: SP | C47: LM | D47: KLYX 001 | E47: 1941 | F47: Klyx | G47: rektalv‘ske, opl›sn. | H47: REKVSKO | J47: 1 + 250 mg/ml | K47: 0 | M47: 11483 | N47: 11483 | O47: A06AG10 | P47: PR | R47: G | V47: 2401
A48: 28100315259 | B48: SP | C48: LM | D48: SYNTOC002 | E48: 1709 | F48: Syntocinon | G48: n‘sespray, opl›sning | H48: NASSPRO | J48: 6,7 mikrogram/dosis | K48: 6700 | L48: RGD | M48: 273116 | N48: 271932 | O48: H01BB02 | P48: IN | R48: G | V48: 7965
A49: 28100320959 | B49: SP | C49: LM | D49: DULCOL002 | E49: 1603 | F49: Dulcolax | G49: suppositorier | H49: SUP | J49: 10 mg | K49: 10000 | L49: MG | M49: 257842 | N49: 257842 | O49: A06AB02 | P49: PR
A50: 28100323959 | B50: SP | C50: LM | D50: DEPO-M001 | E50: 1980 | F50: Depo-medrol | G50: inj.v‘ske,suspension | H50: INJVSKS | J50: 40 mg/ml | K50: 40000 | L50: MGM | M50: 61800 | N50: 61800 | O50: H02AB04 | P50: IMIR | R50: G | V50: 3822
A51: 28100327560 | B51: SP | C51: LM | D51: CENTYL001 | E51: 1987 | F51: Centyl med Kaliumklorid | G51: overtrukne tabletter | H51: TABOTR | J51: 2,5+573 mg | K51: 0 | M51: 34800 | N51: 34800 | O51: C03AB01 | P51: OR | R51: G | V51: 876
A52: 28100327860 | B52: SP | C52: LM | D52: NOZINA001 | E52: 1996 | F52: Nozinan | G52: filmovertrukne tabl. | H52: TABFILM | J52: 5 mg | K52: 5000 | L52: MG | M52: 257228 | N52: 257228 | O52: N05AA02 | P52: OR | W52: D
A53: 28100329660 | B53: SP | C53: LM | D53: MARPLA001 | E53: 2035 | F53: Marplan | G53: tabletter | H53: TAB | J53: 10 mg | K53: 10000 | L53: MG | M53: 951812 | N53: 951812 | O53: N06AF01 | P53: OR | W53: D
A54: 28100330160 | B54: SP | C54: LM | D54: REGENO001 | E54: 2008 | F54: Regenon | G54: kapsler | H54: KAP | J54: 25 mg | K54: 25000 | L54: MG | M54: 270896 | N54: 262245 | O54: A08AA03 | P54: OR | Q54: J
A55: 28100335260 | B55: SP | C55: LM | D55: XYLOCA005 | E55: 985 | F55: Xylocain | G55: kutanspray, opl›sn. | H55: KUTSPRO | J55: 100 mg/ml | K55: 100000 | L55: MGM | M55: 267589 | N55: 272482 | O55: N01BB02 | P55: KU | R55: G | V55: 465
A56: 28100338960 | B56: SP | C56: LM | D56: ERCORI001 | E56: 1949 | F56: Ercoril | G56: tabletter | H56: TAB | J56: 15 mg | K56: 15000 | L56: MG | M56: 254766 | N56: 254766 | O56: A03AB05 | P56: OR | W56: D
A57: 28100366461 | B57: SP | C57: LM | D57: VELBE 001 | E57: 2247 | F57: Velbe | G57: pulv.t.inj.v‘ske,opl | H57: INJPULO | J57: 10 mg | K57: 10000 | L57: MG | M57: 250000 | N57: 250000 | O57: L01CA01 | P57: IV
A58: 28100368661 | B58: SP | C58: LM | D58: SAROTE002 | E58: 2162 | F58: Saroten | G58: filmovertrukne tabl. | H58: TABFILM | J58: 25 mg | K58: 25000 | L58: MG | M58: 35800 | N58: 263396 | O58: N06AA09 | P58: OR | R58: G | V58: 273 | W58: D
A59: 28100385861 | B59: SP | C59: LM | D59: PROCTO001 | E59: 2593 | F59: Proctosedyl | G59: rektalsalve | H59: REKSALV | K59: 0 | M59: 257228 | N59: 257228 | O59: C05AA01 | P59: PR | R59: G | V59: 426
A60: 28100388961 | B60: SP | C60: LM | D60: SULFA-001 | E60: 2227 | F60: Sulfa-Streptocillin Vet. | G60: uteritorier, tabl. | H60: UTETAB | J60: 4 g + 250 mg +500 mg | K60: 0 | M60: 274106 | N60: 274106 | O60: QG51AG01 | P60: IU
A61: 28100389161 | B61: SP | C61: LM | D61: VANQUI001 | E61: 1990 | F61: Vanquin | G61: tabletter | H61: TAB | J61: 50 mg | K61: 50000 | L61: MG | M61: 254766 | N61: 254766 | O61: P02CX01 | P61: OR | W61: D
A62: 28100391161 | B62: SP | C62: LM | D62: VIBEDE001 | E62: 2290 | F62: Vibeden | G62: inj.v‘ske, opl›sning | H62: INJVSKO | J62: 1 mg/ml | K62: 1000 | L62: MGM | M62: 260850 | N62: 260850 | O62: B03BA03 | P62: IM | R62: G | V62: 7684
A63: 28100396662 | B63: SP | C63: LM | D63: TETRAL001 | E63: 2260 | F63: Tetralysal | G63: kapsler, h†rde | H63: KAPH | J63: 150 mg | K63: 150000 | L63: MG | M63: 264327 | N63: 264327 | O63: J01AA04 | P63: OR | R63: G | V63: 7858 | W63: D
A64: 28100399462 | B64: SP | C64: LM | D64: FUCIDI006 | E64: 2212 | F64: Fucidin | G64: filmovertrukne tabl. | H64: TABFILM | J64: 250 mg | K64: 250000 | L64: MG | M64: 34800 | N64: 34800 | O64: J01XC01 | P64: OR | R64: G | V64: 1114 | W64: D
A65: 28100400362 | B65: SP | C65: LM | D65: ZAROND001 | E65: 2116 | F65: Zarondan | G65: oral opl›sning | H65: ORALOPL | J65: 50 mg/ml | K65: 50000 | L65: MGM | M65: 267812 | N65: 267812 | O65: N03AD01 | P65: OR | Q65: J | R65: G | V65: 7987
A66: 28100400562 | B66: SP | C66: LM | D66: SYNALA001 | E66: 2278 | F66: Synalar | G66: creme | H66: CREME | J66: 0.00025 | K66: 25 | L66: PC | M66: 11231 | N66: 11231 | O66: D07AC04 | P66: KU
A67: 28100405762 | B67: SP | C67: LM | D67: SOFRAD001 | E67: 2508 | F67: Sofradex | G67: ›jen- og ›redrb.,opl | H67: OODRBO | J67: 0,5 +5,0 +0,05 mg/ml | K67: 0 | M67: 257228 | N67: 257228 | O67: S03CA01 | P67: AUOK | R67: G | V67: 3626
A68: 28100408962 | B68: SP | C68: LM | D68: MICROL001 | E68: 2300 | F68: Microlax | G68: rektalvsk.,opl,endos | H68: REKVSOE | J68: 9 mg/ml + 90 mg/ml | K68: 0 | M68: 258318 | N68: 258318 | O68: A06AG11 | P68: PR | R68: G | V68: 416
A69: 28100410862 | B69: SP | C69: LM | D69: GLUCAG001 | E69: 2514 | F69: GlucaGen | G69: pulv.og sol.t.inj.op | H69: INJPSO | J69: 1 mg | K69: 1000 | L69: MG | M69: 39000 | N69: 39000 | O69: H04AA01 | P69: IMIVSC | R69: G | V69: 7157
A70: 28100413062 | B70: SP | C70: LM | D70: INTRAL001 | E70: 2229 | F70: Intralipid | G70: inf.v‘ske, emulsion | H70: INFVSKE | J70: 0.2 | K70: 20000 | L70: PC | M70: 12263 | N70: 256331 | O70: B05BA02 | P70: IV
A71: 28100413462 | B71: SP | C71: LM | D71: TYLAN 004 | E71: 2512 | F71: Tylan Vet. | G71: pulv. vandopl›seligt | H71: PULVAOP | K71: 0 | M71: 263254 | N71: 263254 | O71: QJ01FA90 | P71: DM | R71: G | V71: 1008
A72: 28100417072 | B72: SP | C72: LM | D72: FUCIDI003 | E72: 2212 | F72: Fucidin | G72: oral suspension | H72: ORALSUS | J72: 50 mg/ml | K72: 50000 | L72: MGM | M72: 34800 | N72: 34800 | O72: J01XC01 | P72: OR
A73: 28100420162 | B73: SP | C73: LM | D73: LIPIOD001 | E73: 866 | F73: Lipiodol Ultra Fluid | G73: inj.v‘ske, opl›sning | H73: INJVSKO | J73: 480 mg/ml | K73: 480000 | L73: MGM | M73: 29000 | N73: 255536 | O73: V08AD01 | P73: IULY
A74: 28100420262 | B74: SP | C74: LM | D74: FLORIN001 | E74: 1405 | F74: Florinef | G74: tabletter | H74: TAB | J74: 0,1 mg | K74: 100 | L74: MG | M74: 267589 | N74: 272482 | O74: H02AA02 | P74: OR | R74: G | V74: 7437 | W74: D
A75: 28100423962 | B75: SP | C75: LM | D75: HALDID001 | E75: 2558 | F75: Haldid | G75: inj.v‘ske, opl›sning | H75: INJVSKO | J75: 50 mikrogram/ml | K75: 50000 | L75: RGM | M75: 268816 | N75: 268816 | O75: N01AH01 | P75: IV
A76: 28100427563 | B76: SP | C76: LM | D76: HYDROC003 | E76: 2566 | F76: Hydrocortison m.Terram.+Polym. | G76: ›jen- og ›redrb,susp | H76: OODRBS | J76: 15 + 5 + 1 mg/ml | K76: 0 | M76: 61800 | N76: 61800 | O76: S03CA04 | P76: AUOK | R76: G | V76: 7893
A77: 28100435763 | B77: SP | C77: LM | D77: PROVER001 | E77: 2627 | F77: Provera | G77: tabletter | H77: TAB | J77: 5 mg | K77: 5000 | L77: MG | M77: 61800 | N77: 61800 | O77: G03DA02 | P77: OR | R77: G | V77: 7532
A78: 28100437363 | B78: SP | C78: LM | D78: DESFER001 | E78: 2607 | F78: Desferal | G78: pul.t.inj.+inf.,opl. | H78: INPULVO | J78: 500 mg | K78: 500000 | L78: MG | M78: 265285 | N78: 265285 | O78: V03AC01 | P78: IMIVSC | R78: G | V78: 490
A79: 28100438963 | B79: SP | C79: LM | D79: TYLAN 001 | E79: 2512 | F79: Tylan Vet. | G79: inj.v‘ske, opl›sning | H79: INJVSKO | J79: 200 mg/ml | K79: 200000 | L79: MGM | M79: 263254 | N79: 263254 | O79: QJ01FA90 | P79: IM | R79: G | V79: 1057
A80: 28100439163 | B80: SP | C80: LM | D80: NORITR002 | E80: 2616 | F80: Noritren | G80: filmovertrukne tabl. | H80: TABFILM | J80: 25 mg | K80: 25000 | L80: MG | M80: 35800 | N80: 263396 | O80: N06AA10 | P80: OR | R80: G | V80: 700 | W80: D
A81: 28100444263 | B81: SP | C81: LM | D81: NORITR001 | E81: 2616 | F81: Noritren | G81: filmovertrukne tabl. | H81: TABFILM | J81: 10 mg | K81: 10000 | L81: MG | M81: 35800 | N81: 263396 | O81: N06AA10 | P81: OR | W81: D
A82: 28100445563 | B82: SP | C82: LM | D82: LYSANT001 | E82: 2645 | F82: Lysantin | G82: filmovertrukne tabl. | H82: TABFILM | J82: 50 mg | K82: 50000 | L82: MG | M82: 254766 | N82: 254766 | O82: N04AB02 | P82: OR | R82: G | V82: 225 | W82: D
A83: 28100448264 | B83: SP | C83: LM | D83: SENDOX003 | E83: 1785 | F83: Sendoxan | G83: pulv.t.inj.v‘ske,opl | H83: INJPULO | J83: 500 mg | K83: 500000 | L83: MG | M83: 268850 | N83: 268850 | O83: L01AA01 | P83: IV
A84: 28100454364 | B84: SP | C84: LM | D84: TEGRET005 | E84: 2689 | F84: Tegretol | G84: tabletter | H84: TAB | J84: 200 mg | K84: 200000 | L84: MG | M84: 265285 | N84: 265285 | O84: N03AF01 | P84: OR | Q84: J | R84: G | V84: 623 | W84: D
A85: 28100457064 | B85: SP | C85: LM | D85: BETNOV001 | E85: 2231 | F85: Betnovat | G85: creme | H85: CREME | J85: 1 mg/g | K85: 1000 | L85: MGG | M85: 59300 | N85: 59300 | O85: D07AC01 | P85: KU | R85: G | V85: 3671
A86: 28100464864 | B86: SP | C86: LM | D86: LINK 001 | E86: 2550 | F86: Link | G86: oral suspension | H86: ORALSUS | J86: 150 mg/ml | K86: 150000 | L86: MGM | M86: 258171 | N86: 272406 | O86: A02AD01 | P86: OR
A87: 28100466264 | B87: SP | C87: LM | D87: CALCIU001 | E87: 177 | F87: Calcium-Sandoz | G87: brusetabletter | H87: BRUTAB | J87: 500 mg | K87: 500000 | L87: MG | M87: 260850 | N87: 260850 | O87: A12AA06 | P87: OR | R87: G | V87: 420
A88: 28100467764 | B88: SP | C88: LM | D88: ESTRAD003 | E88: 1743 | F88: Estradurin | G88: pulv.og sol.t.inj.op | H88: INJPSO | J88: 80 mg | K88: 80000 | L88: MG | M88: 266046 | N88: 266046 | O88: L02AA02 | P88: IM
A89: 28100474065 | B89: SP | C89: LM | D89: BURONI001 | E89: 2818 | F89: Buronil | G89: overtrukne tabletter | H89: TABOTR | J89: 25 mg | K89: 25000 | L89: MG | M89: 951812 | N89: 951812 | O89: N05AD03 | P89: OR | W89: D
A90: 28100474265 | B90: SP | C90: LM | D90: FUCIDI004 | E90: 2212 | F90: Fucidin | G90: salve | H90: SALV | J90: 0.02 | K90: 2000 | L90: PC | M90: 34800 | N90: 34800 | O90: D06AX01 | P90: KU | R90: G | V90: 1093
A91: 28100474965 | B91: SP | C91: LM | D91: SYNALA004 | E91: 2732 | F91: Synalar 0,025 % med Chinoform | G91: creme | H91: CREME | J91: 0,25 + 30 mg/g | K91: 0 | M91: 11231 | N91: 11231 | O91: D07BC02 | P91: KU
A92: 28100478565 | B92: SP | C92: LM | D92: STESOL006 | E92: 2738 | F92: Stesolid | G92: tabletter | H92: TAB | J92: 2 mg | K92: 2000 | L92: MG | M92: 258171 | N92: 272406 | O92: N05BA01 | P92: OR | Q92: J | R92: G | V92: 242 | W92: D
A93: 28100478865 | B93: SP | C93: LM | D93: SYNACT001 | E93: 2739 | F93: Synacthen | G93: inj.v‘ske, opl›sning | H93: INJVSKO | J93: 0,25 mg/ml | K93: 250 | L93: MGM | M93: 273116 | N93: 271932 | O93: H01AA02 | P93: IMIV | R93: G | V93: 7108
A94: 28100480365 | B94: SP | C94: LM | D94: OXYTOC001 | E94: 2731 | F94: Oxytocin "Elanco" | G94: injektionsv‘ske | H94: INJVSK | J94: 10 IE/ml | K94: 10000 | L94: IUM | M94: 269817 | N94: 263254 | O94: QH01BB02 | P94: IMIV | R94: G | V94: 2239
A95: 28100480965 | B95: SP | C95: LM | D95: NEULAC001 | E95: 2747 | F95: Neulactil | G95: tabletter | H95: TAB | J95: 2,5 mg | K95: 2500 | L95: MG | M95: 257228 | N95: 257228 | O95: N05AC01 | P95: OR | W95: D
A96: 28100484865 | B96: SP | C96: LM | D96: CITANE001 | E96: 2777 | F96: Citanest Dental Octapressin | G96: inj.v‘ske, opl›sning | H96: INJVSKO | J96: 30 mg/ml+0,54mikg/ml | K96: 0 | M96: 267220 | N96: 267220 | O96: N01BB54 | P96: PE | R96: G | V96: 2295
A97: 28100486965 | B97: SP | C97: LM | D97: EGAZIL001 | E97: 2859 | F97: Egazil | G97: depottabletter | H97: DEPTAB | J97: 0,2 mg | K97: 200 | L97: MG | M97: 272169 | N97: 272169 | O97: A03BA03 | P97: OR | W97: D
A98: 28100487965 | B98: SP | C98: LM | D98: MAXIDE001 | E98: 2916 | F98: Maxidex | G98: ›jendr†ber, susp. | H98: OJDRBS | J98: 1 mg/ml | K98: 1000 | L98: MGM | M98: 265285 | N98: 265285 | O98: S01BA01 | P98: OK | R98: G | V98: 2204
A99: 28100488965 | B99: SP | C99: LM | D99: MARCAI007 | E99: 2765 | F99: Marcain-adrenalin | G99: inj.v‘ske, opl›sning | H99: INJVSKO | J99: 2,5 mg + 5 mikrog/ml | K99: 0 | M99: 267589 | N99: 272482 | O99: N01BB51 | P99: ILIRPE
A100: 28100489665 | B100: SP | C100: LM | D100: MUCOMY002 | E100: 2760 | F100: Mucomyst | G100: inhvsk t. nebul, opl | H100: INHVNEO | J100: 200 mg/ml | K100: 200000 | L100: MGM | M100: 254766 | N100: 254766 | O100: R05CB01 | P100: IH | R100: G | V100: 3805
...

Sheet lms12
A1: ATC | B1: Tekst
A2: A | B2: Ford›jelsesorganer og stofskifte
A3: A01 | B3: Midler mod sygdomme i mundhulen
A4: A01A | B4: Stomatologica
A5: A01AA | B5: Midler mod caries
A6: A01AA01 | B6: Natriumfluorid
A7: A01AA02 | B7: Natriummonofluorophosphat
A8: A01AA03 | B8: Olaflur
A9: A01AA04 | B9: Stannofluorid
A10: A01AA30 | B10: Kombinationer
A11: A01AA51 | B11: Natriumfluorid, komb.
A12: A01AB | B12: Antiinfectiva til lokal brug i mundhulen
... A13301: V20 | B13301: Surgical dressings
